BEGIN:VCALENDAR
VERSION:2.0
PRODID:-//www.ketchikanarts.org//NONSGML kigkonsult.se iCalcreator 2.30.10/
 /
CALSCALE:GREGORIAN
METHOD:PUBLISH
UID:46d35235-cd83-4312-9fb5-57fed92afc66
X-WR-CALDESC:Are you a Wearable Artist or a Wearable Model? Then you helped
  us at our most popular fundraising event of the year! Please join us at t
 he Main Street Gallery and let us thank you in style! Come share stories\,
  meet other artists and get up close and personal with some of the Wearabl
 e Art Work on display!
X-WR-RELCALID:76ad6345fd3bca571f8483bda676daf0
X-WR-TIMEZONE:America/Anchorage
BEGIN:VTIMEZONE
TZID:America/Anchorage
BEGIN:STANDARD
TZNAME:AKST
DTSTART:20191103T020000
TZOFFSETFROM:-0800
TZOFFSETTO:-0900
RDATE:20201101T020000
END:STANDARD
BEGIN:DAYLIGHT
TZNAME:AKDT
DTSTART:20190310T020000
TZOFFSETFROM:-0900
TZOFFSETTO:-0800
RDATE:20200308T020000
RDATE:20210314T020000
END:DAYLIGHT
END:VTIMEZONE
BEGIN:VEVENT
UID:2dc4d7c2-0909-49f9-b990-9c0349db7191
DTSTAMP:20260422T030602Z
DESCRIPTION:Are you a Wearable Artist or a Wearable Model? Then you helped 
 us at our most popular fundraising event of the year! Please join us at th
 e Main Street Gallery and let us thank you in style! Come share stories\, 
 meet other artists and get up close and personal with some of the Wearable
  Art Work on display!
DTSTART;TZID=America/Anchorage:20200207T170000
DTEND;TZID=America/Anchorage:20200207T190000
LOCATION:Main Street Gallery
SUMMARY:Wearable Artist Party
END:VEVENT
END:VCALENDAR
