BEGIN:VCALENDAR
VERSION:2.0
PRODID:-//www.ketchikanarts.org//NONSGML kigkonsult.se iCalcreator 2.30.10/
 /
CALSCALE:GREGORIAN
METHOD:PUBLISH
UID:9b55c6d0-17d3-4d94-9893-ea893632697b
X-WR-CALDESC:Old time - and classic bluegrass come to town with this fun du
 o\, Gabrielle Macrae  (vocals\, fiddle\, banjo\,guitar ) and Barry Souther
 n\, (Banjo\, Vocals\, guitar). Limited seating is available at the Creek S
 treet Cabaret so get your tickets early and often!!!!\n\nMust be +21 to at
 tend or accompanied by a parent or guardian\n\nTickets are available at th
 e Arts Council\, 330 Main Street\, 225-2211\, and at the door.\n\nOR click
  below to get your tickets online!!!\n$20 - adult\n$15 - students/seniors/
 military
X-WR-RELCALID:502e546db916bf01355373e91e7b2f21
X-WR-TIMEZONE:America/Anchorage
BEGIN:VTIMEZONE
TZID:America/Anchorage
BEGIN:STANDARD
TZNAME:AKST
DTSTART:20191103T020000
TZOFFSETFROM:-0800
TZOFFSETTO:-0900
RDATE:20201101T020000
END:STANDARD
BEGIN:DAYLIGHT
TZNAME:AKDT
DTSTART:20190310T020000
TZOFFSETFROM:-0900
TZOFFSETTO:-0800
RDATE:20200308T020000
RDATE:20210314T020000
END:DAYLIGHT
END:VTIMEZONE
BEGIN:VEVENT
UID:a7afd192-b2bf-4f41-a2d0-37a61fc942e4
DTSTAMP:20260422T030854Z
DESCRIPTION:Old time - and classic bluegrass come to town with this fun duo
 \, Gabrielle Macrae  (vocals\, fiddle\, banjo\,guitar ) and Barry Southern
 \, (Banjo\, Vocals\, guitar). Limited seating is available at the Creek St
 reet Cabaret so get your tickets early and often!!!!\n\nMust be +21 to att
 end or accompanied by a parent or guardian\n\nTickets are available at the
  Arts Council\, 330 Main Street\, 225-2211\, and at the door.\n\nOR click 
 below to get your tickets online!!!\n$20 - adult\n$15 - students/seniors/m
 ilitary
DTSTART;TZID=America/Anchorage:20200206T190000
DTEND;TZID=America/Anchorage:20200206T210000
LOCATION:Creek Street Cabaret
SUMMARY:The Horsenecks perform in Ketchikan
END:VEVENT
END:VCALENDAR
