BEGIN:VCALENDAR
VERSION:2.0
PRODID:-//www.ketchikanarts.org//NONSGML kigkonsult.se iCalcreator 2.30.10/
 /
CALSCALE:GREGORIAN
METHOD:PUBLISH
UID:93527d7a-5ca1-4423-825e-dd0ac42c4349
X-WR-CALDESC:The Sea Strummers is a ukulele group that meets once a week. T
 hey welcome new people/musicians. \n
X-WR-RELCALID:3c6e841ba1e24dfb1895830fc64e6236
X-WR-TIMEZONE:America/Anchorage
BEGIN:VTIMEZONE
TZID:America/Anchorage
BEGIN:STANDARD
TZNAME:AKST
DTSTART:20191103T020000
TZOFFSETFROM:-0800
TZOFFSETTO:-0900
RDATE:20201101T020000
END:STANDARD
BEGIN:DAYLIGHT
TZNAME:AKDT
DTSTART:20190310T020000
TZOFFSETFROM:-0900
TZOFFSETTO:-0800
RDATE:20200308T020000
RDATE:20210314T020000
END:DAYLIGHT
END:VTIMEZONE
BEGIN:VEVENT
UID:93f6723e-fcde-4a87-bf6d-150d3b17f34a
DTSTAMP:20260422T030541Z
DESCRIPTION:The Sea Strummers is a ukulele group that meets once a week. Th
 ey welcome new people/musicians. \n
DTSTART;TZID=America/Anchorage:20200205T183000
DTEND;TZID=America/Anchorage:20200205T193000
LOCATION:Bayside Hotel Lobby
SUMMARY:Sea Strummers Ukulele Group
END:VEVENT
END:VCALENDAR
