BEGIN:VCALENDAR
VERSION:2.0
PRODID:-//www.ketchikanarts.org//NONSGML kigkonsult.se iCalcreator 2.30.10/
 /
CALSCALE:GREGORIAN
METHOD:PUBLISH
UID:fc8d6eb1-ffbf-4831-910d-ab7eb04747c7
X-WR-CALDESC:The Board of Director's of KRBD meet monthly at the station be
 ginning at 5:30pm\, on the first Wednesday of the month. This meeting is t
 o discuss the workings of the radio station.
X-WR-RELCALID:f45baadd1d6601857d025834d95da8f6
X-WR-TIMEZONE:America/Anchorage
BEGIN:VTIMEZONE
TZID:America/Anchorage
BEGIN:STANDARD
TZNAME:AKST
DTSTART:20191103T020000
TZOFFSETFROM:-0800
TZOFFSETTO:-0900
RDATE:20201101T020000
END:STANDARD
BEGIN:DAYLIGHT
TZNAME:AKDT
DTSTART:20190310T020000
TZOFFSETFROM:-0900
TZOFFSETTO:-0800
RDATE:20200308T020000
RDATE:20210314T020000
END:DAYLIGHT
END:VTIMEZONE
BEGIN:VEVENT
UID:fb55858a-7ecd-46f4-a7d6-feb93889b864
DTSTAMP:20260422T030956Z
DESCRIPTION:The Board of Director's of KRBD meet monthly at the station beg
 inning at 5:30pm\, on the first Wednesday of the month. This meeting is to
  discuss the workings of the radio station.
DTSTART;TZID=America/Anchorage:20200205T173000
DTEND;TZID=America/Anchorage:20200205T190000
LOCATION:KRBD Station
SUMMARY:KRBD Ketchikan Community Radio - Board of Directors' Meeting
END:VEVENT
END:VCALENDAR
