BEGIN:VCALENDAR
VERSION:2.0
PRODID:-//www.ketchikanarts.org//NONSGML kigkonsult.se iCalcreator 2.30.10/
 /
CALSCALE:GREGORIAN
METHOD:PUBLISH
UID:7f3741f7-cadc-4452-9803-73bf18142448
X-WR-CALDESC:This year's theme is 'Once Upon a Time'. Doors at the Ted Ferr
 y Civic Center open at 1:30 pm\, the show starts at 2 pm. There is general
  seating for the Saturday matinee performance only\, except for the reserv
 ed table seating. \n\nThe Saturday\, all-ages matinee includes the classro
 om\, youth\, and first -time artists\, as well as all- age-appropriate eve
 ning showpieces. The Wearable Art Show is the Arts Council's largest Fundr
 aiser.\n\nPlease give us a call to purchase your Saturday Matinee tickets!
  907-225-2211 or email info@ketchikanarts.org
X-WR-RELCALID:4068f43519fa00b05fd9ccb314bf00a7
X-WR-TIMEZONE:America/Anchorage
BEGIN:VTIMEZONE
TZID:America/Anchorage
BEGIN:STANDARD
TZNAME:AKST
DTSTART:20191103T020000
TZOFFSETFROM:-0800
TZOFFSETTO:-0900
RDATE:20201101T020000
END:STANDARD
BEGIN:DAYLIGHT
TZNAME:AKDT
DTSTART:20190310T020000
TZOFFSETFROM:-0900
TZOFFSETTO:-0800
RDATE:20200308T020000
RDATE:20210314T020000
END:DAYLIGHT
END:VTIMEZONE
BEGIN:VEVENT
UID:b95c5475-cedd-4c26-b340-43a7770381b8
DTSTAMP:20260422T030709Z
DESCRIPTION:This year's theme is 'Once Upon a Time'. Doors at the Ted Ferry
  Civic Center open at 1:30 pm\, the show starts at 2 pm. There is general 
 seating for the Saturday matinee performance only\, except for the reserve
 d table seating. \n\nThe Saturday\, all-ages matinee includes the classroo
 m\, youth\, and first -time artists\, as well as all- age-appropriate even
 ing showpieces. The Wearable Art Show is the Arts Council's largest Fundra
 iser.\n\nPlease give us a call to purchase your Saturday Matinee tickets! 
 907-225-2211 or email info@ketchikanarts.org
DTSTART;TZID=America/Anchorage:20200201T140000
DTEND;TZID=America/Anchorage:20200201T163000
LOCATION:Ted Ferry Civic Center
SUMMARY:34th Annual Wearable Art Show MATINEE
END:VEVENT
END:VCALENDAR
