BEGIN:VCALENDAR
VERSION:2.0
PRODID:-//www.ketchikanarts.org//NONSGML kigkonsult.se iCalcreator 2.30.10/
 /
CALSCALE:GREGORIAN
METHOD:PUBLISH
UID:6a938df2-fdb5-4365-b3ba-0fa2f881aa53
X-WR-CALDESC:Every year the Misty Thistle Pipes and Drums celebrates the li
 fe of Scottish poet Robert Burns at The Burns Supper.  The event is a trad
 itional one\, resplendent with Scottish tartans\, dancing\, dialect\, and 
 yes\, the smell of Haggis. \n\nRobert Burns (1759-1796) was an 18th-centur
 y poet that has written hundreds of poems and songs. Works attributed to B
 urns include 'Auld Lang Syne' and 'A Red Red Rose.' He perpetuated Scottis
 h folklore and enjoyed writing with a Scottish dialect.\n\nHere in Ketchik
 an we celebrate Robbie's Birthday with a B.Y.O.S (Bring Your Own Scotch) d
 inner. \nThere are just two rules...\nFirst\, upon concluding a toast\, em
 pty your glass. \nSecond\, everyone's a Scotsman.\n\nSo you make a lot of 
 toasts and have a lot of fun!\n\nPrice and tickets available closer to the
  event.\n
X-WR-RELCALID:18bc063778637fbcff99660498932afd
X-WR-TIMEZONE:America/Anchorage
BEGIN:VTIMEZONE
TZID:America/Anchorage
BEGIN:STANDARD
TZNAME:AKST
DTSTART:20191103T020000
TZOFFSETFROM:-0800
TZOFFSETTO:-0900
RDATE:20201101T020000
END:STANDARD
BEGIN:DAYLIGHT
TZNAME:AKDT
DTSTART:20190310T020000
TZOFFSETFROM:-0900
TZOFFSETTO:-0800
RDATE:20200308T020000
RDATE:20210314T020000
END:DAYLIGHT
END:VTIMEZONE
BEGIN:VEVENT
UID:ca13206e-3562-49a8-9a90-6ed87c327bc7
DTSTAMP:20260422T044602Z
DESCRIPTION:Every year the Misty Thistle Pipes and Drums celebrates the lif
 e of Scottish poet Robert Burns at The Burns Supper.  The event is a tradi
 tional one\, resplendent with Scottish tartans\, dancing\, dialect\, and y
 es\, the smell of Haggis. \n\nRobert Burns (1759-1796) was an 18th-century
  poet that has written hundreds of poems and songs. Works attributed to Bu
 rns include 'Auld Lang Syne' and 'A Red Red Rose.' He perpetuated Scottish
  folklore and enjoyed writing with a Scottish dialect.\n\nHere in Ketchika
 n we celebrate Robbie's Birthday with a B.Y.O.S (Bring Your Own Scotch) di
 nner. \nThere are just two rules...\nFirst\, upon concluding a toast\, emp
 ty your glass. \nSecond\, everyone's a Scotsman.\n\nSo you make a lot of t
 oasts and have a lot of fun!\n\nPrice and tickets available closer to the 
 event.\n
DTSTART;TZID=America/Anchorage:20200125T170000
DTEND;TZID=America/Anchorage:20200125T220000
LOCATION:American Legion Hall #3
SUMMARY:Burns Night
END:VEVENT
END:VCALENDAR
