BEGIN:VCALENDAR
VERSION:2.0
PRODID:-//www.ketchikanarts.org//NONSGML kigkonsult.se iCalcreator 2.30.10/
 /
CALSCALE:GREGORIAN
METHOD:PUBLISH
UID:f4306392-5425-439e-9728-31fcf9b8b11e
X-WR-CALDESC:The Ketchikan Theater Ballet has graciously offered Studio C a
 nd all of it's glorious mirrors to Wearable Artist and their models to pra
 ctice their movements in. There is no instructor available during this tim
 e. Please be respectful of the KTB space\, other classes will be in sessio
 n and should not be disrupted.  Also\, please be respectful of space and t
 ime if other artists show up. This is a shared space opportunity.  Yay!!!
X-WR-RELCALID:074d715f51567c6e980309ec76d2dad2
X-WR-TIMEZONE:America/Anchorage
BEGIN:VTIMEZONE
TZID:America/Anchorage
BEGIN:STANDARD
TZNAME:AKST
DTSTART:20191103T020000
TZOFFSETFROM:-0800
TZOFFSETTO:-0900
RDATE:20201101T020000
END:STANDARD
BEGIN:DAYLIGHT
TZNAME:AKDT
DTSTART:20190310T020000
TZOFFSETFROM:-0900
TZOFFSETTO:-0800
RDATE:20200308T020000
RDATE:20210314T020000
END:DAYLIGHT
END:VTIMEZONE
BEGIN:VEVENT
UID:4d10b4ff-fc06-4618-97a8-ebc235d87ec0
DTSTAMP:20260422T044714Z
DESCRIPTION:The Ketchikan Theater Ballet has graciously offered Studio C an
 d all of it's glorious mirrors to Wearable Artist and their models to prac
 tice their movements in. There is no instructor available during this time
 . Please be respectful of the KTB space\, other classes will be in session
  and should not be disrupted.  Also\, please be respectful of space and ti
 me if other artists show up. This is a shared space opportunity.  Yay!!!
DTSTART;TZID=America/Anchorage:20200124T153000
DTEND;TZID=America/Anchorage:20200124T190000
LOCATION:Ketchikan Theater Ballet Studio
SUMMARY:WAS practice at KTB
END:VEVENT
END:VCALENDAR
