BEGIN:VCALENDAR
VERSION:2.0
PRODID:-//www.ketchikanarts.org//NONSGML kigkonsult.se iCalcreator 2.30.10/
 /
CALSCALE:GREGORIAN
METHOD:PUBLISH
UID:b62c1536-7fac-44d1-8d5a-92f7cd4716fc
X-WR-CALDESC:Cut and manipulate clay to design and create your own clay lum
 inary!!! Handcrafted luminaries are a beautiful addition to home or garden
 . Pick up your project from the Arts Council after they have been fired\, 
 one week later!!
X-WR-RELCALID:49a03754fccdfd8efc30a854bafa1228
X-WR-TIMEZONE:America/Anchorage
BEGIN:VTIMEZONE
TZID:America/Anchorage
BEGIN:STANDARD
TZNAME:AKST
DTSTART:20191103T020000
TZOFFSETFROM:-0800
TZOFFSETTO:-0900
RDATE:20201101T020000
END:STANDARD
BEGIN:DAYLIGHT
TZNAME:AKDT
DTSTART:20190310T020000
TZOFFSETFROM:-0900
TZOFFSETTO:-0800
RDATE:20200308T020000
RDATE:20210314T020000
END:DAYLIGHT
END:VTIMEZONE
BEGIN:VEVENT
UID:e3925cce-768e-403b-80df-476588defc9f
DTSTAMP:20260422T045223Z
DESCRIPTION:Cut and manipulate clay to design and create your own clay lumi
 nary!!! Handcrafted luminaries are a beautiful addition to home or garden.
  Pick up your project from the Arts Council after they have been fired\, o
 ne week later!!
DTSTART;TZID=America/Anchorage:20200124T190000
DTEND;TZID=America/Anchorage:20200124T210000
LOCATION:Main Street Gallery
SUMMARY:AU Clay Luminaries with Leif Sivertsen
END:VEVENT
END:VCALENDAR
