BEGIN:VCALENDAR
VERSION:2.0
PRODID:-//www.ketchikanarts.org//NONSGML kigkonsult.se iCalcreator 2.30.10/
 /
CALSCALE:GREGORIAN
METHOD:PUBLISH
UID:ecd88fb8-b710-49bd-a882-dc5558738300
X-WR-CALDESC:
X-WR-RELCALID:2a0a6c5c58088cedec7287123287e20a
X-WR-TIMEZONE:America/Anchorage
BEGIN:VTIMEZONE
TZID:America/Anchorage
BEGIN:STANDARD
TZNAME:AKST
DTSTART:20191103T020000
TZOFFSETFROM:-0800
TZOFFSETTO:-0900
RDATE:20201101T020000
END:STANDARD
BEGIN:DAYLIGHT
TZNAME:AKDT
DTSTART:20190310T020000
TZOFFSETFROM:-0900
TZOFFSETTO:-0800
RDATE:20200308T020000
RDATE:20210314T020000
END:DAYLIGHT
END:VTIMEZONE
BEGIN:VEVENT
UID:7bf1fd7f-e450-4263-a7c0-e3d89e883deb
DTSTAMP:20260422T044850Z
DESCRIPTION:
DTSTART;TZID=America/Anchorage:20200118T190000
DTEND;TZID=America/Anchorage:20200118T210000
LOCATION:Saxman Tribal House
SUMMARY:The Monthly Grind
END:VEVENT
END:VCALENDAR
