BEGIN:VCALENDAR
VERSION:2.0
PRODID:-//www.ketchikanarts.org//NONSGML kigkonsult.se iCalcreator 2.30.10/
 /
CALSCALE:GREGORIAN
METHOD:PUBLISH
UID:b7a46b67-f4e4-4b70-ae3d-4bf7283cc079
X-WR-CALDESC:First City Players Production:\n\nProfessional NYC musicians M
 att King\, Nicki Denner\, and Anne Phillips collaborate with local vocalis
 ts in workshops and accompany them in interpretations of great songs. We a
 lso feature our visiting pros and Ketchikan instrumentalists in jazz perfo
 rmances.\n\nThese two gala evenings always sell out\; book early with a se
 ason package to guarantee your prime seats!
X-WR-RELCALID:c162a5fddc4a1c832a06d8d41165d113
X-WR-TIMEZONE:America/Anchorage
BEGIN:VTIMEZONE
TZID:America/Anchorage
BEGIN:STANDARD
TZNAME:AKST
DTSTART:20191103T020000
TZOFFSETFROM:-0800
TZOFFSETTO:-0900
RDATE:20201101T020000
END:STANDARD
BEGIN:DAYLIGHT
TZNAME:AKDT
DTSTART:20190310T020000
TZOFFSETFROM:-0900
TZOFFSETTO:-0800
RDATE:20200308T020000
RDATE:20210314T020000
END:DAYLIGHT
END:VTIMEZONE
BEGIN:VEVENT
UID:604b46e1-833d-48b4-a254-6254de59ad55
DTSTAMP:20260422T044714Z
DESCRIPTION:First City Players Production:\n\nProfessional NYC musicians Ma
 tt King\, Nicki Denner\, and Anne Phillips collaborate with local vocalist
 s in workshops and accompany them in interpretations of great songs. We al
 so feature our visiting pros and Ketchikan instrumentalists in jazz perfor
 mances.\n\nThese two gala evenings always sell out\; book early with a sea
 son package to guarantee your prime seats!
DTSTART;TZID=America/Anchorage:20200118T190000
DTEND;TZID=America/Anchorage:20200118T210000
LOCATION:Ted Ferry Civic Center
SUMMARY:FCP - Jazz & Cabaret
END:VEVENT
END:VCALENDAR
