BEGIN:VCALENDAR
VERSION:2.0
PRODID:-//www.ketchikanarts.org//NONSGML kigkonsult.se iCalcreator 2.30.10/
 /
CALSCALE:GREGORIAN
METHOD:PUBLISH
UID:c51ec41c-cd6a-4ad3-93a5-c515612b604b
X-WR-CALDESC:First City Players  annual Jazz and Cabaret Event! \n\nProfess
 ional NYC musicians Matt King\, Nicki Denner\, and Anne Phillips collabora
 te with local vocalists in workshops and accompany them in interpretations
  of great songs. We also feature our visiting pros and Ketchikan instrumen
 talists in jazz performances.\n\nThese two gala evenings always sell out\;
  book early with a season package to guarantee your prime seats!
X-WR-RELCALID:9ea3d90519df2761babce9b9433e2b9a
X-WR-TIMEZONE:America/Anchorage
BEGIN:VTIMEZONE
TZID:America/Anchorage
BEGIN:STANDARD
TZNAME:AKST
DTSTART:20191103T020000
TZOFFSETFROM:-0800
TZOFFSETTO:-0900
RDATE:20201101T020000
END:STANDARD
BEGIN:DAYLIGHT
TZNAME:AKDT
DTSTART:20190310T020000
TZOFFSETFROM:-0900
TZOFFSETTO:-0800
RDATE:20200308T020000
RDATE:20210314T020000
END:DAYLIGHT
END:VTIMEZONE
BEGIN:VEVENT
UID:e9df0e57-93cf-4b62-866f-ccdb719455c4
DTSTAMP:20260422T044713Z
DESCRIPTION:First City Players  annual Jazz and Cabaret Event! \n\nProfessi
 onal NYC musicians Matt King\, Nicki Denner\, and Anne Phillips collaborat
 e with local vocalists in workshops and accompany them in interpretations 
 of great songs. We also feature our visiting pros and Ketchikan instrument
 alists in jazz performances.\n\nThese two gala evenings always sell out\; 
 book early with a season package to guarantee your prime seats!
DTSTART;TZID=America/Anchorage:20200117T190000
DTEND;TZID=America/Anchorage:20200117T210000
LOCATION:Ted Ferry Civic Center
SUMMARY:FCP - Jazz & Cabaret
END:VEVENT
END:VCALENDAR
