BEGIN:VCALENDAR
VERSION:2.0
PRODID:-//www.ketchikanarts.org//NONSGML kigkonsult.se iCalcreator 2.30.10/
 /
CALSCALE:GREGORIAN
METHOD:PUBLISH
UID:3cbdfab9-f937-4d53-8614-662b39d9f418
X-WR-CALDESC:Dave Rubin\, guitar\, Hannah Karrick\, violin\, and Chazz Gist
 \, bass\, play every Friday night at the New York Cafe for your listening 
 pleasure.
X-WR-RELCALID:f6db7bc13bc392af9206db50ee66124b
X-WR-TIMEZONE:America/Anchorage
BEGIN:VTIMEZONE
TZID:America/Anchorage
BEGIN:STANDARD
TZNAME:AKST
DTSTART:20191103T020000
TZOFFSETFROM:-0800
TZOFFSETTO:-0900
RDATE:20201101T020000
END:STANDARD
BEGIN:DAYLIGHT
TZNAME:AKDT
DTSTART:20190310T020000
TZOFFSETFROM:-0900
TZOFFSETTO:-0800
RDATE:20200308T020000
RDATE:20210314T020000
END:DAYLIGHT
END:VTIMEZONE
BEGIN:VEVENT
UID:718c18d3-9d50-46a0-8ef1-4863f068d1f8
DTSTAMP:20260422T045137Z
DESCRIPTION:Dave Rubin\, guitar\, Hannah Karrick\, violin\, and Chazz Gist\
 , bass\, play every Friday night at the New York Cafe for your listening p
 leasure.
DTSTART;TZID=America/Anchorage:20200117T190000
DTEND;TZID=America/Anchorage:20200117T210000
LOCATION:New York Cafe
SUMMARY:Dave\, Hannah\, and Chazz
END:VEVENT
END:VCALENDAR
