BEGIN:VCALENDAR
VERSION:2.0
PRODID:-//www.ketchikanarts.org//NONSGML kigkonsult.se iCalcreator 2.30.10/
 /
CALSCALE:GREGORIAN
METHOD:PUBLISH
UID:74b64cdf-df75-4b7c-b157-dcdb610426d3
X-WR-CALDESC:This is a mandatory meeting for all artists wishing to partici
 pate in the Wearable Art Show. The meeting will cover all procedures for t
 he show's participation. This meeting is geared toward individual artists\
 , school groups and models are not required to attend be are very welcome 
 should you want to come.\n\nBecause of the need to reschedule this meeting
  we understand if you have challenges for attendance. If you need to atten
 d via online or phone\, please email or call to get more info. The meeting
  will be recorded\, if you are unable to attend you will need to watch rec
 orded meeting. \n\nThursday\, January 16th\, 5:30pm\, Main Street Gallery\
 , 330 Main Street
X-WR-RELCALID:a5565e179f37e4036de4a7ca14eed1b3
X-WR-TIMEZONE:America/Anchorage
BEGIN:VTIMEZONE
TZID:America/Anchorage
BEGIN:STANDARD
TZNAME:AKST
DTSTART:20191103T020000
TZOFFSETFROM:-0800
TZOFFSETTO:-0900
RDATE:20201101T020000
END:STANDARD
BEGIN:DAYLIGHT
TZNAME:AKDT
DTSTART:20190310T020000
TZOFFSETFROM:-0900
TZOFFSETTO:-0800
RDATE:20200308T020000
RDATE:20210314T020000
END:DAYLIGHT
END:VTIMEZONE
BEGIN:VEVENT
UID:b363ad56-4e8c-4677-ace0-b36c2a4204a6
DTSTAMP:20260422T045441Z
DESCRIPTION:This is a mandatory meeting for all artists wishing to particip
 ate in the Wearable Art Show. The meeting will cover all procedures for th
 e show's participation. This meeting is geared toward individual artists\,
  school groups and models are not required to attend be are very welcome s
 hould you want to come.\n\nBecause of the need to reschedule this meeting 
 we understand if you have challenges for attendance. If you need to attend
  via online or phone\, please email or call to get more info. The meeting 
 will be recorded\, if you are unable to attend you will need to watch reco
 rded meeting. \n\nThursday\, January 16th\, 5:30pm\, Main Street Gallery\,
  330 Main Street
DTSTART;TZID=America/Anchorage:20200116T173000
DTEND;TZID=America/Anchorage:20200116T183000
LOCATION:Main Street Gallery
SUMMARY:MANDATORTY Wearable Artist Meeting
END:VEVENT
END:VCALENDAR
