BEGIN:VCALENDAR
VERSION:2.0
PRODID:-//www.ketchikanarts.org//NONSGML kigkonsult.se iCalcreator 2.30.10/
 /
CALSCALE:GREGORIAN
METHOD:PUBLISH
UID:8e28ea05-4330-4b7c-b535-413282478f51
X-WR-CALDESC:This workshop takes advantage of the Ketchikan Theater Ballet'
 s dance studio mirrors. Get input on movement and practice those show-stop
 ping poses! Bring your music on phone or tablet\, and any prop pieces cruc
 ial to your photography!
X-WR-RELCALID:589bba6aed2ad67ca9b41fc2a918e292
X-WR-TIMEZONE:America/Anchorage
BEGIN:VTIMEZONE
TZID:America/Anchorage
BEGIN:STANDARD
TZNAME:AKST
DTSTART:20191103T020000
TZOFFSETFROM:-0800
TZOFFSETTO:-0900
RDATE:20201101T020000
END:STANDARD
BEGIN:DAYLIGHT
TZNAME:AKDT
DTSTART:20190310T020000
TZOFFSETFROM:-0900
TZOFFSETTO:-0800
RDATE:20200308T020000
RDATE:20210314T020000
END:DAYLIGHT
END:VTIMEZONE
BEGIN:VEVENT
UID:1b07df30-f32f-4dd9-8173-4a5d269fd9f7
DTSTAMP:20260422T044900Z
DESCRIPTION:This workshop takes advantage of the Ketchikan Theater Ballet's
  dance studio mirrors. Get input on movement and practice those show-stopp
 ing poses! Bring your music on phone or tablet\, and any prop pieces cruci
 al to your photography!
DTSTART;TZID=America/Anchorage:20200115T184500
DTEND;TZID=America/Anchorage:20200115T194500
LOCATION:
SUMMARY:Wearable Art Show Model Workshops
END:VEVENT
END:VCALENDAR
