BEGIN:VCALENDAR
VERSION:2.0
PRODID:-//www.ketchikanarts.org//NONSGML kigkonsult.se iCalcreator 2.30.10/
 /
CALSCALE:GREGORIAN
METHOD:PUBLISH
UID:a5cc64de-79e1-4263-b6f6-4c37b61e017f
X-WR-CALDESC:The Sea Strummers is a ukulele group that meets once a week. T
 hey welcome new people/musicians. \n
X-WR-RELCALID:8c0a4530f10f069f1f01133bea4b230e
X-WR-TIMEZONE:America/Anchorage
BEGIN:VTIMEZONE
TZID:America/Anchorage
BEGIN:STANDARD
TZNAME:AKST
DTSTART:20191103T020000
TZOFFSETFROM:-0800
TZOFFSETTO:-0900
RDATE:20201101T020000
END:STANDARD
BEGIN:DAYLIGHT
TZNAME:AKDT
DTSTART:20190310T020000
TZOFFSETFROM:-0900
TZOFFSETTO:-0800
RDATE:20200308T020000
RDATE:20210314T020000
END:DAYLIGHT
END:VTIMEZONE
BEGIN:VEVENT
UID:18e5affa-e808-49f7-9313-4b5f8d001f26
DTSTAMP:20260422T045034Z
DESCRIPTION:The Sea Strummers is a ukulele group that meets once a week. Th
 ey welcome new people/musicians. \n
DTSTART;TZID=America/Anchorage:20200115T183000
DTEND;TZID=America/Anchorage:20200115T193000
LOCATION:Bayside Hotel Lobby
SUMMARY:Sea Strummers Ukulele Group
END:VEVENT
END:VCALENDAR
