BEGIN:VCALENDAR
VERSION:2.0
PRODID:-//www.ketchikanarts.org//NONSGML kigkonsult.se iCalcreator 2.30.10/
 /
CALSCALE:GREGORIAN
METHOD:PUBLISH
UID:30d6b26d-bfb9-4f5e-8288-433d2b62791b
X-WR-CALDESC:Monthly Board of Directors Meeting
X-WR-RELCALID:4c3c11b4526585508955a28cf3983fc1
X-WR-TIMEZONE:America/Anchorage
BEGIN:VTIMEZONE
TZID:America/Anchorage
BEGIN:STANDARD
TZNAME:AKST
DTSTART:20191103T020000
TZOFFSETFROM:-0800
TZOFFSETTO:-0900
RDATE:20201101T020000
END:STANDARD
BEGIN:DAYLIGHT
TZNAME:AKDT
DTSTART:20190310T020000
TZOFFSETFROM:-0900
TZOFFSETTO:-0800
RDATE:20200308T020000
RDATE:20210314T020000
END:DAYLIGHT
END:VTIMEZONE
BEGIN:VEVENT
UID:904ebcb6-5bb6-460d-80a2-98d9f68c7312
DTSTAMP:20260422T045512Z
DESCRIPTION:Monthly Board of Directors Meeting
DTSTART;TZID=America/Anchorage:20200115T173000
DTEND;TZID=America/Anchorage:20200115T190000
LOCATION:Main Street Gallery
SUMMARY:Ketchikan Area Arts and Humanities Board of Directors Meeting
END:VEVENT
END:VCALENDAR
