BEGIN:VCALENDAR
VERSION:2.0
PRODID:-//www.ketchikanarts.org//NONSGML kigkonsult.se iCalcreator 2.30.10/
 /
CALSCALE:GREGORIAN
METHOD:PUBLISH
UID:973c0e52-d7e6-4dd0-82ce-8f4e047f7dc9
X-WR-CALDESC:Evon Zerbetz teaches a round-robin style dance technique which
  means you do not need a partner to come enjoy these fun dance lessons!\ns
 wing 101 6:15 - 655\nSwing 3   7 - 7:30\n
X-WR-RELCALID:a6f6f79572b2ff6a18f6a1c2b6e145ee
X-WR-TIMEZONE:America/Anchorage
BEGIN:VTIMEZONE
TZID:America/Anchorage
BEGIN:STANDARD
TZNAME:AKST
DTSTART:20191103T020000
TZOFFSETFROM:-0800
TZOFFSETTO:-0900
RDATE:20201101T020000
END:STANDARD
BEGIN:DAYLIGHT
TZNAME:AKDT
DTSTART:20190310T020000
TZOFFSETFROM:-0900
TZOFFSETTO:-0800
RDATE:20200308T020000
RDATE:20210314T020000
END:DAYLIGHT
END:VTIMEZONE
BEGIN:VEVENT
UID:71db6de1-7760-4a52-a49c-b5d11e5cd54d
DTSTAMP:20260422T045338Z
DESCRIPTION:Evon Zerbetz teaches a round-robin style dance technique which 
 means you do not need a partner to come enjoy these fun dance lessons!\nsw
 ing 101 6:15 - 655\nSwing 3   7 - 7:30\n
DTSTART;TZID=America/Anchorage:20200113T181500
DTEND;TZID=America/Anchorage:20200113T194500
LOCATION:Main Street Gallery
SUMMARY:BOOMbal Dance Hall
END:VEVENT
END:VCALENDAR
