BEGIN:VCALENDAR
VERSION:2.0
PRODID:-//www.ketchikanarts.org//NONSGML kigkonsult.se iCalcreator 2.30.10/
 /
CALSCALE:GREGORIAN
METHOD:PUBLISH
UID:04ae46d3-79a1-420a-ab0e-a6f80236067f
X-WR-CALDESC:Dave Kiffer and Sam Romey\nThe struggle to preserve historic W
 olf Creek Boat Works
X-WR-RELCALID:61bd8ef1beb3773a4cf42028865ef83a
X-WR-TIMEZONE:America/Anchorage
BEGIN:VTIMEZONE
TZID:America/Anchorage
BEGIN:STANDARD
TZNAME:AKST
DTSTART:20191103T020000
TZOFFSETFROM:-0800
TZOFFSETTO:-0900
RDATE:20201101T020000
END:STANDARD
BEGIN:DAYLIGHT
TZNAME:AKDT
DTSTART:20190310T020000
TZOFFSETFROM:-0900
TZOFFSETTO:-0800
RDATE:20200308T020000
RDATE:20210314T020000
END:DAYLIGHT
END:VTIMEZONE
BEGIN:VEVENT
UID:4a370607-c2c0-4b2e-af71-909fd4205c94
DTSTAMP:20260422T044714Z
DESCRIPTION:Dave Kiffer and Sam Romey\nThe struggle to preserve historic Wo
 lf Creek Boat Works
DTSTART;TZID=America/Anchorage:20200109T120000
DTEND;TZID=America/Anchorage:20200109T130000
LOCATION:Tongass Historical Museum
SUMMARY:Museum Midday
END:VEVENT
END:VCALENDAR
