BEGIN:VCALENDAR
VERSION:2.0
PRODID:-//www.ketchikanarts.org//NONSGML kigkonsult.se iCalcreator 2.30.10/
 /
CALSCALE:GREGORIAN
METHOD:PUBLISH
UID:69dc5a79-f6db-4ceb-80de-54baee3e670b
X-WR-CALDESC:The Sea Strummers is a ukulele group that meets once a week. T
 hey welcome new people/musicians. \n
X-WR-RELCALID:468b0ba16e0429e6ca3ba7691ebe8177
X-WR-TIMEZONE:America/Anchorage
BEGIN:VTIMEZONE
TZID:America/Anchorage
BEGIN:STANDARD
TZNAME:AKST
DTSTART:20191103T020000
TZOFFSETFROM:-0800
TZOFFSETTO:-0900
RDATE:20201101T020000
END:STANDARD
BEGIN:DAYLIGHT
TZNAME:AKDT
DTSTART:20190310T020000
TZOFFSETFROM:-0900
TZOFFSETTO:-0800
RDATE:20200308T020000
RDATE:20210314T020000
END:DAYLIGHT
END:VTIMEZONE
BEGIN:VEVENT
UID:50dd7505-080d-4767-8a75-e000df637717
DTSTAMP:20260422T045049Z
DESCRIPTION:The Sea Strummers is a ukulele group that meets once a week. Th
 ey welcome new people/musicians. \n
DTSTART;TZID=America/Anchorage:20200108T183000
DTEND;TZID=America/Anchorage:20200108T193000
LOCATION:Bayside Hotel Lobby
SUMMARY:Sea Strummers Ukulele Group
END:VEVENT
END:VCALENDAR
