BEGIN:VCALENDAR
VERSION:2.0
PRODID:-//www.ketchikanarts.org//NONSGML kigkonsult.se iCalcreator 2.30.10/
 /
CALSCALE:GREGORIAN
METHOD:PUBLISH
UID:3072f06b-af5e-4716-9b03-b799a33afb27
X-WR-CALDESC:Turn in those applications and model release papers TODAY!!!!
X-WR-RELCALID:ee390373203142d6677cecbbb78191df
X-WR-TIMEZONE:America/Anchorage
BEGIN:VTIMEZONE
TZID:America/Anchorage
BEGIN:STANDARD
TZNAME:AKST
DTSTART:20191103T020000
TZOFFSETFROM:-0800
TZOFFSETTO:-0900
RDATE:20201101T020000
END:STANDARD
BEGIN:DAYLIGHT
TZNAME:AKDT
DTSTART:20190310T020000
TZOFFSETFROM:-0900
TZOFFSETTO:-0800
RDATE:20200308T020000
RDATE:20210314T020000
END:DAYLIGHT
END:VTIMEZONE
BEGIN:VEVENT
UID:c666b657-459a-4e38-891c-3711f950db50
DTSTAMP:20260422T044848Z
DESCRIPTION:Turn in those applications and model release papers TODAY!!!!
DTSTART;TZID=America/Anchorage:20200106T090000
DTEND;TZID=America/Anchorage:20200106T170000
LOCATION:Main Street Gallery
SUMMARY:Wearable Art Show Application Deadline!!!
END:VEVENT
END:VCALENDAR
