BEGIN:VCALENDAR
VERSION:2.0
PRODID:-//www.ketchikanarts.org//NONSGML kigkonsult.se iCalcreator 2.30.10/
 /
CALSCALE:GREGORIAN
METHOD:PUBLISH
UID:4affcafd-7d97-4567-91e2-7f1da0dd8e4b
X-WR-CALDESC:Artist-led demonstration and practice of the Art of Gyotaku wi
 th cephalopods! Participants are encouraged to get their hands dirty and p
 ractice this ancient Japanese art with the Artist after the presentation\,
  all supplies are provided. Class size is limited Please preregister below
  or call the Arts Council at (907) 225-2211
X-WR-RELCALID:ba122e4bf157de63b5abbcdbc107af88
X-WR-TIMEZONE:America/Anchorage
BEGIN:VTIMEZONE
TZID:America/Anchorage
BEGIN:STANDARD
TZNAME:AKST
DTSTART:20191103T020000
TZOFFSETFROM:-0800
TZOFFSETTO:-0900
RDATE:20201101T020000
END:STANDARD
BEGIN:DAYLIGHT
TZNAME:AKDT
DTSTART:20190310T020000
TZOFFSETFROM:-0900
TZOFFSETTO:-0800
RDATE:20200308T020000
RDATE:20210314T020000
END:DAYLIGHT
END:VTIMEZONE
BEGIN:VEVENT
UID:e49f7e61-c1f8-4c7e-b17e-53a8e04deaea
DTSTAMP:20260422T045002Z
DESCRIPTION:Artist-led demonstration and practice of the Art of Gyotaku wit
 h cephalopods! Participants are encouraged to get their hands dirty and pr
 actice this ancient Japanese art with the Artist after the presentation\, 
 all supplies are provided. Class size is limited Please preregister below 
 or call the Arts Council at (907) 225-2211
DTSTART;TZID=America/Anchorage:20200104T120000
DTEND;TZID=America/Anchorage:20200104T140000
LOCATION:Main street Gallery
SUMMARY:Artist Presentation Rachel Walton
END:VEVENT
END:VCALENDAR
