BEGIN:VCALENDAR
VERSION:2.0
PRODID:-//www.ketchikanarts.org//NONSGML kigkonsult.se iCalcreator 2.30.10/
 /
CALSCALE:GREGORIAN
METHOD:PUBLISH
UID:adcb7c7c-b5b9-4952-bd63-701c605655cd
X-WR-CALDESC:As a fisherman\, Rachel Walton is embarking on expressing grat
 itude for local fishes through the art of gyotaku.
X-WR-RELCALID:08871a1becf8a25b15b18e93ff43609f
X-WR-TIMEZONE:America/Anchorage
BEGIN:VTIMEZONE
TZID:America/Anchorage
BEGIN:STANDARD
TZNAME:AKST
DTSTART:20191103T020000
TZOFFSETFROM:-0800
TZOFFSETTO:-0900
RDATE:20201101T020000
END:STANDARD
BEGIN:DAYLIGHT
TZNAME:AKDT
DTSTART:20190310T020000
TZOFFSETFROM:-0900
TZOFFSETTO:-0800
RDATE:20200308T020000
RDATE:20210314T020000
END:DAYLIGHT
END:VTIMEZONE
BEGIN:VEVENT
UID:ca523fb4-e421-49e4-a927-ffaeb0342fb4
DTSTAMP:20260422T045500Z
DESCRIPTION:As a fisherman\, Rachel Walton is embarking on expressing grati
 tude for local fishes through the art of gyotaku.
DTSTART;TZID=America/Anchorage:20200104T110000
DTEND;TZID=America/Anchorage:20200131T170000
LOCATION:Main Street Gallery
SUMMARY:'Ocean Imprints' - an exhibit by Rachel Walton at the Main Street G
 allery
END:VEVENT
END:VCALENDAR
