BEGIN:VCALENDAR
VERSION:2.0
PRODID:-//www.ketchikanarts.org//NONSGML kigkonsult.se iCalcreator 2.30.10/
 /
CALSCALE:GREGORIAN
METHOD:PUBLISH
UID:0a08e4c0-7cba-4d9a-ab92-38d20deddd16
X-WR-CALDESC:Dave Rubin\, guitar\, Hannah Karrick\, violin\, and Chazz Gist
 \, bass\, play every Friday night at the New York Cafe for your listening 
 pleasure.
X-WR-RELCALID:135ac55f4bbdb7c54104765e6b1c96ae
X-WR-TIMEZONE:America/Anchorage
BEGIN:VTIMEZONE
TZID:America/Anchorage
BEGIN:STANDARD
TZNAME:AKST
DTSTART:20191103T020000
TZOFFSETFROM:-0800
TZOFFSETTO:-0900
RDATE:20201101T020000
END:STANDARD
BEGIN:DAYLIGHT
TZNAME:AKDT
DTSTART:20190310T020000
TZOFFSETFROM:-0900
TZOFFSETTO:-0800
RDATE:20200308T020000
RDATE:20210314T020000
END:DAYLIGHT
END:VTIMEZONE
BEGIN:VEVENT
UID:6637f56b-e042-427e-985d-31dba854aadd
DTSTAMP:20260422T063025Z
DESCRIPTION:Dave Rubin\, guitar\, Hannah Karrick\, violin\, and Chazz Gist\
 , bass\, play every Friday night at the New York Cafe for your listening p
 leasure.
DTSTART;TZID=America/Anchorage:20191227T190000
DTEND;TZID=America/Anchorage:20191227T210000
LOCATION:New York Cafe
SUMMARY:Dave\, Hannah\, and Chazz
END:VEVENT
END:VCALENDAR
