BEGIN:VCALENDAR
VERSION:2.0
PRODID:-//www.ketchikanarts.org//NONSGML kigkonsult.se iCalcreator 2.30.10/
 /
CALSCALE:GREGORIAN
METHOD:PUBLISH
UID:85f800f2-f4f1-4ba5-b9e9-b0e3c7b278b7
X-WR-CALDESC:
X-WR-RELCALID:e0ff0844733b94a516ce7fed167020b3
X-WR-TIMEZONE:America/Anchorage
BEGIN:VTIMEZONE
TZID:America/Anchorage
BEGIN:STANDARD
TZNAME:AKST
DTSTART:20191103T020000
TZOFFSETFROM:-0800
TZOFFSETTO:-0900
RDATE:20201101T020000
END:STANDARD
BEGIN:DAYLIGHT
TZNAME:AKDT
DTSTART:20190310T020000
TZOFFSETFROM:-0900
TZOFFSETTO:-0800
RDATE:20200308T020000
RDATE:20210314T020000
END:DAYLIGHT
END:VTIMEZONE
BEGIN:VEVENT
UID:7590db4b-6059-444a-a057-f22ae0cd6ce6
DTSTAMP:20260422T062607Z
DESCRIPTION:
DTSTART;TZID=America/Anchorage:20191221T190000
DTEND;TZID=America/Anchorage:20191221T210000
LOCATION:Saxman Tribal House
SUMMARY:The Monthly Grind
END:VEVENT
END:VCALENDAR
