BEGIN:VCALENDAR
VERSION:2.0
PRODID:-//www.ketchikanarts.org//NONSGML kigkonsult.se iCalcreator 2.30.10/
 /
CALSCALE:GREGORIAN
METHOD:PUBLISH
UID:e8df0488-1587-476b-bac4-55db62820cdd
X-WR-CALDESC:Family Friendly Blues\, Swing\, Ballads\, and Dancing! Startin
 g after the Monthly Grind. Karl Richey\, Angela Weimer\, Austin Hays\, Ste
 ve Perro\, Julie Moeller\, Leslie Snoderly\, Rob Holston\, Alvin Inoncillo
 \, and Bill Ayers.\n\n$5 at the Door
X-WR-RELCALID:69868ca97ae79a83cc85624bd690f48b
X-WR-TIMEZONE:America/Anchorage
BEGIN:VTIMEZONE
TZID:America/Anchorage
BEGIN:STANDARD
TZNAME:AKST
DTSTART:20191103T020000
TZOFFSETFROM:-0800
TZOFFSETTO:-0900
RDATE:20201101T020000
END:STANDARD
BEGIN:DAYLIGHT
TZNAME:AKDT
DTSTART:20190310T020000
TZOFFSETFROM:-0900
TZOFFSETTO:-0800
RDATE:20200308T020000
RDATE:20210314T020000
END:DAYLIGHT
END:VTIMEZONE
BEGIN:VEVENT
UID:2721f929-5327-4d3b-ae7b-1c5d398fc8d7
DTSTAMP:20260422T062651Z
DESCRIPTION:Family Friendly Blues\, Swing\, Ballads\, and Dancing! Starting
  after the Monthly Grind. Karl Richey\, Angela Weimer\, Austin Hays\, Stev
 e Perro\, Julie Moeller\, Leslie Snoderly\, Rob Holston\, Alvin Inoncillo\
 , and Bill Ayers.\n\n$5 at the Door
DTSTART;TZID=America/Anchorage:20191221T200000
DTEND;TZID=America/Anchorage:20191221T220000
LOCATION:Creek Street Cabaret
SUMMARY:Christmas Jazz Concert
END:VEVENT
END:VCALENDAR
