BEGIN:VCALENDAR
VERSION:2.0
PRODID:-//www.ketchikanarts.org//NONSGML kigkonsult.se iCalcreator 2.30.10/
 /
CALSCALE:GREGORIAN
METHOD:PUBLISH
UID:8b9972d5-4b7b-411b-836a-f61b01744035
X-WR-CALDESC:We will reopen Thursday\, January 2nd\, 9:00 am. Have a Safe a
 nd Happy Holiday!
X-WR-RELCALID:574876a37acb9e1a4cfa81eb67dd9fa3
X-WR-TIMEZONE:America/Anchorage
BEGIN:VTIMEZONE
TZID:America/Anchorage
BEGIN:STANDARD
TZNAME:AKST
DTSTART:20191103T020000
TZOFFSETFROM:-0800
TZOFFSETTO:-0900
RDATE:20201101T020000
END:STANDARD
BEGIN:DAYLIGHT
TZNAME:AKDT
DTSTART:20190310T020000
TZOFFSETFROM:-0900
TZOFFSETTO:-0800
RDATE:20200308T020000
RDATE:20210314T020000
END:DAYLIGHT
END:VTIMEZONE
BEGIN:VEVENT
UID:63642f5c-2092-4ff9-9a04-8c8ba03e55aa
DTSTAMP:20260422T062616Z
DESCRIPTION:We will reopen Thursday\, January 2nd\, 9:00 am. Have a Safe an
 d Happy Holiday!
DTSTART;TZID=America/Anchorage:20191221T090000
DTEND;TZID=America/Anchorage:20200101T170000
LOCATION:Main Street Gallery
SUMMARY:Arts Council is Closed
END:VEVENT
END:VCALENDAR
