BEGIN:VCALENDAR
VERSION:2.0
PRODID:-//www.ketchikanarts.org//NONSGML kigkonsult.se iCalcreator 2.30.10/
 /
CALSCALE:GREGORIAN
METHOD:PUBLISH
UID:3d8a58b2-2142-4723-863e-a025f051fb02
X-WR-CALDESC:Houghtaling Winter Concert is happening on December 19th at 6:
 00 pm at the Kayhi Auditorium.
X-WR-RELCALID:8b263988db95b31542b83a18b1be5785
X-WR-TIMEZONE:America/Anchorage
BEGIN:VTIMEZONE
TZID:America/Anchorage
BEGIN:STANDARD
TZNAME:AKST
DTSTART:20191103T020000
TZOFFSETFROM:-0800
TZOFFSETTO:-0900
RDATE:20201101T020000
END:STANDARD
BEGIN:DAYLIGHT
TZNAME:AKDT
DTSTART:20190310T020000
TZOFFSETFROM:-0900
TZOFFSETTO:-0800
RDATE:20200308T020000
RDATE:20210314T020000
END:DAYLIGHT
END:VTIMEZONE
BEGIN:VEVENT
UID:ca3c79d5-b818-4e0f-8004-46af0978dd5c
DTSTAMP:20260422T062652Z
DESCRIPTION:Houghtaling Winter Concert is happening on December 19th at 6:0
 0 pm at the Kayhi Auditorium.
DTSTART;TZID=America/Anchorage:20191219T180000
DTEND;TZID=America/Anchorage:20191219T200000
LOCATION:Kayhi Auditorium
SUMMARY:Houghtaling Winter Concert
END:VEVENT
END:VCALENDAR
