BEGIN:VCALENDAR
VERSION:2.0
PRODID:-//www.ketchikanarts.org//NONSGML kigkonsult.se iCalcreator 2.30.10/
 /
CALSCALE:GREGORIAN
METHOD:PUBLISH
UID:39498848-1534-4682-b0ea-24cb5326dc79
X-WR-CALDESC:Monthly Board of Directors Meeting
X-WR-RELCALID:2e48889502c89138820908edcd9b162c
X-WR-TIMEZONE:America/Anchorage
BEGIN:VTIMEZONE
TZID:America/Anchorage
BEGIN:STANDARD
TZNAME:AKST
DTSTART:20191103T020000
TZOFFSETFROM:-0800
TZOFFSETTO:-0900
RDATE:20201101T020000
END:STANDARD
BEGIN:DAYLIGHT
TZNAME:AKDT
DTSTART:20190310T020000
TZOFFSETFROM:-0900
TZOFFSETTO:-0800
RDATE:20200308T020000
RDATE:20210314T020000
END:DAYLIGHT
END:VTIMEZONE
BEGIN:VEVENT
UID:efd363ae-ecbd-4af2-a0e2-8c036bfc7526
DTSTAMP:20260422T063349Z
DESCRIPTION:Monthly Board of Directors Meeting
DTSTART;TZID=America/Anchorage:20191218T173000
DTEND;TZID=America/Anchorage:20191218T190000
LOCATION:Main Street Gallery
SUMMARY:Ketchikan Area Arts and Humanities Board of Directors Meeting
END:VEVENT
END:VCALENDAR
