BEGIN:VCALENDAR
VERSION:2.0
PRODID:-//www.ketchikanarts.org//NONSGML kigkonsult.se iCalcreator 2.30.10/
 /
CALSCALE:GREGORIAN
METHOD:PUBLISH
UID:fc843f15-0ebd-4a96-bc05-c9c3718277c5
X-WR-CALDESC:Dear Wearable Artists\,\nIt is with great pleasure that we ann
 ounce the call for entries for the Port Townsend 2020 Wearable Art Show. T
 his is the TEN YEAR ANNIVERSARY show. We are excited and eager to see your
  spectacular pieces. We have been so fortunate to have such wonderful enga
 gement with you and look forward to you being a continued part of the magi
 c that happens.\n\nWe want the show to grow and become even more wild and 
 outrageous\, so we are urging you to think about “sculpture on the body” a
 nd really have fun with your piece. This year we won’t be having a fashion
  portion of the show and instead\, we are planning a retrospective section
  that will feature past spectacular Wearable Art pieces.  For those of you
  who have specialized in fashion\, we’d love to see your entry for the Wea
 rable Art category.  We know your skills will translate well...go for it! 
  We also encourage you to make complete ensembles that include headgear\, 
 shoes\, accessories\, props and whatever else you need to make it 'whole'.
 \n\nMost of you will be happy to know that we are asking artists to pick t
 heir own music from royalty free sources this year. We look forward to hea
 ring from you and seeing your ideas.\n\nThe applications are due by Midnig
 ht\,  December 15th and we are requesting only electronic submissions this
  year. If you need help\, we are here and can answer any questions via art
 ist@ptwearableart.com.\n\nThank you again for your support and enthusiasm 
 for our show. The Fund for Women & Girls appreciates all you do to help ma
 ke our organization stronger so we can benefit women and girls of Jefferso
 n County. Happy Creating!\n\nMaximum is (3) entries per artist.\nADULTS: $
 20 for the 1st entry\, $10 each for the 2nd and 3rd entries.\nSTUDENTS $10
  each.\nEntry fees are non-refundable. Payment must be received for applic
 ation to be considered\n\nSincerely - \nTina and Leslie and many other vol
 unteers!
X-WR-RELCALID:9f74528a33fc2a0b737f9c26dd517a9c
X-WR-TIMEZONE:America/Anchorage
BEGIN:VTIMEZONE
TZID:America/Anchorage
BEGIN:STANDARD
TZNAME:AKST
DTSTART:20191103T020000
TZOFFSETFROM:-0800
TZOFFSETTO:-0900
RDATE:20201101T020000
END:STANDARD
BEGIN:DAYLIGHT
TZNAME:AKDT
DTSTART:20190310T020000
TZOFFSETFROM:-0900
TZOFFSETTO:-0800
RDATE:20200308T020000
RDATE:20210314T020000
END:DAYLIGHT
END:VTIMEZONE
BEGIN:VEVENT
UID:fe9a16a1-1343-414c-b5ab-9956c96e6944
DTSTAMP:20260422T063154Z
DESCRIPTION:Dear Wearable Artists\,\nIt is with great pleasure that we anno
 unce the call for entries for the Port Townsend 2020 Wearable Art Show. Th
 is is the TEN YEAR ANNIVERSARY show. We are excited and eager to see your 
 spectacular pieces. We have been so fortunate to have such wonderful engag
 ement with you and look forward to you being a continued part of the magic
  that happens.\n\nWe want the show to grow and become even more wild and o
 utrageous\, so we are urging you to think about “sculpture on the body” an
 d really have fun with your piece. This year we won’t be having a fashion 
 portion of the show and instead\, we are planning a retrospective section 
 that will feature past spectacular Wearable Art pieces.  For those of you 
 who have specialized in fashion\, we’d love to see your entry for the Wear
 able Art category.  We know your skills will translate well...go for it!  
 We also encourage you to make complete ensembles that include headgear\, s
 hoes\, accessories\, props and whatever else you need to make it 'whole'.
 \n\nMost of you will be happy to know that we are asking artists to pick t
 heir own music from royalty free sources this year. We look forward to hea
 ring from you and seeing your ideas.\n\nThe applications are due by Midnig
 ht\,  December 15th and we are requesting only electronic submissions this
  year. If you need help\, we are here and can answer any questions via art
 ist@ptwearableart.com.\n\nThank you again for your support and enthusiasm 
 for our show. The Fund for Women & Girls appreciates all you do to help ma
 ke our organization stronger so we can benefit women and girls of Jefferso
 n County. Happy Creating!\n\nMaximum is (3) entries per artist.\nADULTS: $
 20 for the 1st entry\, $10 each for the 2nd and 3rd entries.\nSTUDENTS $10
  each.\nEntry fees are non-refundable. Payment must be received for applic
 ation to be considered\n\nSincerely - \nTina and Leslie and many other vol
 unteers!
DTSTART;TZID=America/Anchorage:20191215T090000
DTEND;TZID=America/Anchorage:20191215T235900
LOCATION:McCurdy Pavilion\, Port Townsend\, WA
SUMMARY:Port Townsend Wearable Call to Artists
END:VEVENT
END:VCALENDAR
