BEGIN:VCALENDAR
VERSION:2.0
PRODID:-//www.ketchikanarts.org//NONSGML kigkonsult.se iCalcreator 2.30.10/
 /
CALSCALE:GREGORIAN
METHOD:PUBLISH
UID:3d6105bc-c370-4e92-89db-4c773b44038c
X-WR-CALDESC:Learn the fundamental principles of formline design from\nTsim
 shian artist David Robert Boxley. Students will learn\nto draw\, combine f
 oundational elements\, practice and\napply this complex visual language\, 
 and create an original\ndesign for future projects. This class is a prereq
 uisite for all\nupper-level design classes and is a core requirement for t
 hose\npursuing a Certificate of Merit.
X-WR-RELCALID:f4963f9a1e812db2293b7b471d681b27
X-WR-TIMEZONE:America/Anchorage
BEGIN:VTIMEZONE
TZID:America/Anchorage
BEGIN:STANDARD
TZNAME:AKST
DTSTART:20191103T020000
TZOFFSETFROM:-0800
TZOFFSETTO:-0900
RDATE:20201101T020000
END:STANDARD
BEGIN:DAYLIGHT
TZNAME:AKDT
DTSTART:20190310T020000
TZOFFSETFROM:-0900
TZOFFSETTO:-0800
RDATE:20200308T020000
RDATE:20210314T020000
END:DAYLIGHT
END:VTIMEZONE
BEGIN:VEVENT
UID:3527a03e-aef7-432b-8901-01882b6f8792
DTSTAMP:20260422T063000Z
DESCRIPTION:Learn the fundamental principles of formline design from\nTsims
 hian artist David Robert Boxley. Students will learn\nto draw\, combine fo
 undational elements\, practice and\napply this complex visual language\, a
 nd create an original\ndesign for future projects. This class is a prerequ
 isite for all\nupper-level design classes and is a core requirement for th
 ose\npursuing a Certificate of Merit.
DTSTART;TZID=America/Anchorage:20191215T120000
DTEND;TZID=America/Anchorage:20191215T170000
LOCATION:Totem Heritage Center
SUMMARY:Introduction to Formline Design with David R. Boxley
END:VEVENT
END:VCALENDAR
