BEGIN:VCALENDAR
VERSION:2.0
PRODID:-//www.ketchikanarts.org//NONSGML kigkonsult.se iCalcreator 2.30.10/
 /
CALSCALE:GREGORIAN
METHOD:PUBLISH
UID:53b0b8a4-f880-4093-9638-b1633d132654
X-WR-CALDESC:Kandi McGilton is a weaving student of master weavers\,\nDelor
 es and Holly Churchill\, focusing on the endangered\nAnnette Island style 
 of Tsimshian basketry. This unique style\nfeatures an intricate element ca
 lled “false embroidery\,” and\nstudents will create a small\, open face ba
 sket in the Annette\nIsland style. Students are responsible for supplying 
 their\nown red cedar\, canary grass\, and maidenhair fern. This\nclass cou
 nts toward a Certificate of Merit in Weaving.
X-WR-RELCALID:86993b58c3e43d583510d0cc8aa4f68f
X-WR-TIMEZONE:America/Anchorage
BEGIN:VTIMEZONE
TZID:America/Anchorage
BEGIN:STANDARD
TZNAME:AKST
DTSTART:20191103T020000
TZOFFSETFROM:-0800
TZOFFSETTO:-0900
RDATE:20201101T020000
END:STANDARD
BEGIN:DAYLIGHT
TZNAME:AKDT
DTSTART:20190310T020000
TZOFFSETFROM:-0900
TZOFFSETTO:-0800
RDATE:20200308T020000
RDATE:20210314T020000
END:DAYLIGHT
END:VTIMEZONE
BEGIN:VEVENT
UID:025a13e8-d1ba-487f-8bfc-dee299891c5a
DTSTAMP:20260422T062744Z
DESCRIPTION:Kandi McGilton is a weaving student of master weavers\,\nDelore
 s and Holly Churchill\, focusing on the endangered\nAnnette Island style o
 f Tsimshian basketry. This unique style\nfeatures an intricate element cal
 led “false embroidery\,” and\nstudents will create a small\, open face bas
 ket in the Annette\nIsland style. Students are responsible for supplying t
 heir\nown red cedar\, canary grass\, and maidenhair fern. This\nclass coun
 ts toward a Certificate of Merit in Weaving.
DTSTART;TZID=America/Anchorage:20191210T180000
DTEND;TZID=America/Anchorage:20191210T210000
LOCATION:Totem Heritage Center
SUMMARY:Intermediate Cedar Bark Weaving with Kandi Mc Gilton
END:VEVENT
END:VCALENDAR
