BEGIN:VCALENDAR
VERSION:2.0
PRODID:-//www.ketchikanarts.org//NONSGML kigkonsult.se iCalcreator 2.30.10/
 /
CALSCALE:GREGORIAN
METHOD:PUBLISH
UID:b61c400e-9907-4487-953f-4c09f532a50d
X-WR-CALDESC:For swing 101 and swing 2\n\nDoors open at 6:00 to sign in and
  practice \nSwing 101 6:15 - 6:55\nSwing 2  7:00 - 7:30\n\n
X-WR-RELCALID:a05ea1ad6f700109c57a2d19c78dc592
X-WR-TIMEZONE:America/Anchorage
BEGIN:VTIMEZONE
TZID:America/Anchorage
BEGIN:STANDARD
TZNAME:AKST
DTSTART:20191103T020000
TZOFFSETFROM:-0800
TZOFFSETTO:-0900
RDATE:20201101T020000
END:STANDARD
BEGIN:DAYLIGHT
TZNAME:AKDT
DTSTART:20190310T020000
TZOFFSETFROM:-0900
TZOFFSETTO:-0800
RDATE:20200308T020000
RDATE:20210314T020000
END:DAYLIGHT
END:VTIMEZONE
BEGIN:VEVENT
UID:2d9fce89-8f2c-4299-838a-4f358f9ee952
DTSTAMP:20260422T062606Z
DESCRIPTION:For swing 101 and swing 2\n\nDoors open at 6:00 to sign in and 
 practice \nSwing 101 6:15 - 6:55\nSwing 2  7:00 - 7:30\n\n
DTSTART;TZID=America/Anchorage:20191209T180000
DTEND;TZID=America/Anchorage:20191209T193000
LOCATION:Main Street Gallery
SUMMARY:BOOMbal Dancehall
END:VEVENT
END:VCALENDAR
