BEGIN:VCALENDAR
VERSION:2.0
PRODID:-//www.ketchikanarts.org//NONSGML kigkonsult.se iCalcreator 2.30.10/
 /
CALSCALE:GREGORIAN
METHOD:PUBLISH
UID:e741e02e-46ef-4edc-bb63-a96fa3cd21f4
X-WR-CALDESC:The 20th Annual Winter Art Walk is the perfect opportunity to 
 meet up with friends for gallery openings and holiday cheer! Stop by the M
 ain Street Gallery and enjoy the Youth in Art Exhibit and pick up a list o
 f all the local galleries and businesses participating in the Art Walk.
X-WR-RELCALID:f19c484839cffead9f32b54f6370b23e
X-WR-TIMEZONE:America/Anchorage
BEGIN:VTIMEZONE
TZID:America/Anchorage
BEGIN:STANDARD
TZNAME:AKST
DTSTART:20191103T020000
TZOFFSETFROM:-0800
TZOFFSETTO:-0900
RDATE:20201101T020000
END:STANDARD
BEGIN:DAYLIGHT
TZNAME:AKDT
DTSTART:20190310T020000
TZOFFSETFROM:-0900
TZOFFSETTO:-0800
RDATE:20200308T020000
RDATE:20210314T020000
END:DAYLIGHT
END:VTIMEZONE
BEGIN:VEVENT
UID:53050946-f0ca-4f84-b4bc-9b7bcdcf02c0
DTSTAMP:20260422T062607Z
DESCRIPTION:The 20th Annual Winter Art Walk is the perfect opportunity to m
 eet up with friends for gallery openings and holiday cheer! Stop by the Ma
 in Street Gallery and enjoy the Youth in Art Exhibit and pick up a list of
  all the local galleries and businesses participating in the Art Walk.
DTSTART;TZID=America/Anchorage:20191206T170000
DTEND;TZID=America/Anchorage:20191206T200000
LOCATION:Main Street Gallery
SUMMARY:Winter Art Walk
END:VEVENT
END:VCALENDAR
