BEGIN:VCALENDAR
VERSION:2.0
PRODID:-//www.ketchikanarts.org//NONSGML kigkonsult.se iCalcreator 2.30.10/
 /
CALSCALE:GREGORIAN
METHOD:PUBLISH
UID:80198935-e197-4ea2-b69e-4f0fe7c77c63
X-WR-CALDESC:This is a multimedia open-call exhibit inviting youth to displ
 ay their work\, celebrating the arts in our schools and community.\n\nOpen
 ing Receptions are always free and open to the public.\n\nThere will be no
  Artist Presentation for this exhibit.
X-WR-RELCALID:f71609d7e3b1afa6e4e005cf5d39e312
X-WR-TIMEZONE:America/Anchorage
BEGIN:VTIMEZONE
TZID:America/Anchorage
BEGIN:STANDARD
TZNAME:AKST
DTSTART:20191103T020000
TZOFFSETFROM:-0800
TZOFFSETTO:-0900
RDATE:20201101T020000
END:STANDARD
BEGIN:DAYLIGHT
TZNAME:AKDT
DTSTART:20190310T020000
TZOFFSETFROM:-0900
TZOFFSETTO:-0800
RDATE:20200308T020000
RDATE:20210314T020000
END:DAYLIGHT
END:VTIMEZONE
BEGIN:VEVENT
UID:1c94dc3e-696c-48f6-9025-ef1ba5cf479e
DTSTAMP:20260422T063312Z
DESCRIPTION:This is a multimedia open-call exhibit inviting youth to displa
 y their work\, celebrating the arts in our schools and community.\n\nOpeni
 ng Receptions are always free and open to the public.\n\nThere will be no 
 Artist Presentation for this exhibit.
DTSTART;TZID=America/Anchorage:20191206T170000
DTEND;TZID=America/Anchorage:20191206T200000
LOCATION:Main Street Gallery
SUMMARY:Opening Reception - Youth in Art Exhibit at the Main Street Gallery
END:VEVENT
END:VCALENDAR
