BEGIN:VCALENDAR
VERSION:2.0
PRODID:-//www.ketchikanarts.org//NONSGML kigkonsult.se iCalcreator 2.30.10/
 /
CALSCALE:GREGORIAN
METHOD:PUBLISH
UID:611f1067-b832-47da-9d74-ea7bf48924ef
X-WR-CALDESC:PeaceHealth Ketchikan Medical Center Foundation presents the t
 hird annual:\n\nHoliday Gingerbread House Competition.\n\nDrop off gingerb
 read houses to the Tongass Historical Museum at 629 Dock Street between 1p
 m and 5pm\, both Wednesday\, December 4th and Thursday December 5th. Entri
 es will be judged December 6th\, People's Choice award will be chosen by t
 he public during the 20th Annual Winter Art Walk. All entries are consider
 ed donations to the PeaceHealth Ketchikan Medical Center Foundation. \n\nA
 ll entries will be transported to the PeaceHealth Ketchikan Medical Center
  Foundation's Enchanted Forest venue on December 7th to be auctioned off t
 o attendees. All proceeds will help build a bridge to hope for those in ou
 r community living with behavioral health struggles.\n\nNo gingerbread hou
 ses will be accepted in damaged or incomplete condition.
X-WR-RELCALID:3855c627530b9a94ee9b0d30ba960d1a
X-WR-TIMEZONE:America/Anchorage
BEGIN:VTIMEZONE
TZID:America/Anchorage
BEGIN:STANDARD
TZNAME:AKST
DTSTART:20191103T020000
TZOFFSETFROM:-0800
TZOFFSETTO:-0900
RDATE:20201101T020000
END:STANDARD
BEGIN:DAYLIGHT
TZNAME:AKDT
DTSTART:20190310T020000
TZOFFSETFROM:-0900
TZOFFSETTO:-0800
RDATE:20200308T020000
RDATE:20210314T020000
END:DAYLIGHT
END:VTIMEZONE
BEGIN:VEVENT
UID:61ccdd7b-b230-42d6-94e0-8090a8db922a
DTSTAMP:20260422T062756Z
DESCRIPTION:PeaceHealth Ketchikan Medical Center Foundation presents the th
 ird annual:\n\nHoliday Gingerbread House Competition.\n\nDrop off gingerbr
 ead houses to the Tongass Historical Museum at 629 Dock Street between 1pm
  and 5pm\, both Wednesday\, December 4th and Thursday December 5th. Entrie
 s will be judged December 6th\, People's Choice award will be chosen by th
 e public during the 20th Annual Winter Art Walk. All entries are considere
 d donations to the PeaceHealth Ketchikan Medical Center Foundation. \n\nAl
 l entries will be transported to the PeaceHealth Ketchikan Medical Center 
 Foundation's Enchanted Forest venue on December 7th to be auctioned off to
  attendees. All proceeds will help build a bridge to hope for those in our
  community living with behavioral health struggles.\n\nNo gingerbread hous
 es will be accepted in damaged or incomplete condition.
DTSTART;TZID=America/Anchorage:20191205T130000
DTEND;TZID=America/Anchorage:20191205T170000
LOCATION:Tongass Historical Museum
SUMMARY:3rd Annual Holiday Gingerbread House Competition
END:VEVENT
END:VCALENDAR
