BEGIN:VCALENDAR
VERSION:2.0
PRODID:-//www.ketchikanarts.org//NONSGML kigkonsult.se iCalcreator 2.30.10/
 /
CALSCALE:GREGORIAN
METHOD:PUBLISH
UID:120e0658-aedc-4409-baeb-bcd910c8bb93
X-WR-CALDESC:The Sea Strummers is a ukulele group that meets once a week. T
 hey welcome new people/musicians. \n
X-WR-RELCALID:ba8a6b571aa9556923d32a7331b295cd
X-WR-TIMEZONE:America/Anchorage
BEGIN:VTIMEZONE
TZID:America/Anchorage
BEGIN:STANDARD
TZNAME:AKST
DTSTART:20191103T020000
TZOFFSETFROM:-0800
TZOFFSETTO:-0900
RDATE:20201101T020000
END:STANDARD
BEGIN:DAYLIGHT
TZNAME:AKDT
DTSTART:20190310T020000
TZOFFSETFROM:-0900
TZOFFSETTO:-0800
RDATE:20200308T020000
RDATE:20210314T020000
END:DAYLIGHT
END:VTIMEZONE
BEGIN:VEVENT
UID:540ea876-2265-4d92-9e42-90afc3d25e67
DTSTAMP:20260422T062906Z
DESCRIPTION:The Sea Strummers is a ukulele group that meets once a week. Th
 ey welcome new people/musicians. \n
DTSTART;TZID=America/Anchorage:20191204T183000
DTEND;TZID=America/Anchorage:20191204T193000
LOCATION:Bayside Hotel Lobby
SUMMARY:Sea Strummers Ukulele Group
END:VEVENT
END:VCALENDAR
