BEGIN:VCALENDAR
VERSION:2.0
PRODID:-//www.ketchikanarts.org//NONSGML kigkonsult.se iCalcreator 2.30.10/
 /
CALSCALE:GREGORIAN
METHOD:PUBLISH
UID:b3de53da-3bd2-4b0d-ba85-79321994195f
X-WR-CALDESC:The 30th Annual Winter Arts Faire!\nFree admission! Welcome to
  the public!\n\nCheck off your entire holiday shopping list with new creat
 ions from over 80 local artisans! There will be everything from wreaths to
  pottery\, jewelry to photography\, tie-dye to metalwork! Find something f
 or everyone on your list! \n\nWearable Art Show tickets go on sale to the 
 general public Saturday\, 10:00 am at the Arts Council Booth!\n\nFun craft
 s for kids\, visits by Santa\, and much much more!!!\n
X-WR-RELCALID:56333785720357810247dce3ae24e463
X-WR-TIMEZONE:America/Anchorage
BEGIN:VTIMEZONE
TZID:America/Anchorage
BEGIN:STANDARD
TZNAME:AKST
DTSTART:20191103T020000
TZOFFSETFROM:-0800
TZOFFSETTO:-0900
RDATE:20201101T020000
END:STANDARD
BEGIN:DAYLIGHT
TZNAME:AKDT
DTSTART:20190310T020000
TZOFFSETFROM:-0900
TZOFFSETTO:-0800
RDATE:20200308T020000
RDATE:20210314T020000
END:DAYLIGHT
END:VTIMEZONE
BEGIN:VEVENT
UID:1c79fffc-a2db-46e9-a8c8-3efd3fe0c5a8
DTSTAMP:20260422T062925Z
DESCRIPTION:The 30th Annual Winter Arts Faire!\nFree admission! Welcome to 
 the public!\n\nCheck off your entire holiday shopping list with new creati
 ons from over 80 local artisans! There will be everything from wreaths to 
 pottery\, jewelry to photography\, tie-dye to metalwork! Find something fo
 r everyone on your list! \n\nWearable Art Show tickets go on sale to the g
 eneral public Saturday\, 10:00 am at the Arts Council Booth!\n\nFun crafts
  for kids\, visits by Santa\, and much much more!!!\n
DTSTART;TZID=America/Anchorage:20191201T100000
DTEND;TZID=America/Anchorage:20191201T150000
LOCATION:Saxman Community Center
SUMMARY:30th Annual Winter Arts Faire
END:VEVENT
END:VCALENDAR
