BEGIN:VCALENDAR
VERSION:2.0
PRODID:-//www.ketchikanarts.org//NONSGML kigkonsult.se iCalcreator 2.30.10/
 /
CALSCALE:GREGORIAN
METHOD:PUBLISH
UID:c455fa5b-2605-4f7d-9cfb-33fa27f8c377
X-WR-CALDESC:Please enjoy a safe and happy holiday with friends and family!
X-WR-RELCALID:0fa5ecd81b277eb60e6a930dd1c92a71
X-WR-TIMEZONE:America/Anchorage
BEGIN:VTIMEZONE
TZID:America/Anchorage
BEGIN:STANDARD
TZNAME:AKST
DTSTART:20191103T020000
TZOFFSETFROM:-0800
TZOFFSETTO:-0900
RDATE:20201101T020000
END:STANDARD
BEGIN:DAYLIGHT
TZNAME:AKDT
DTSTART:20190310T020000
TZOFFSETFROM:-0900
TZOFFSETTO:-0800
RDATE:20200308T020000
RDATE:20210314T020000
END:DAYLIGHT
END:VTIMEZONE
BEGIN:VEVENT
UID:c5ebbd3b-622b-4e7e-809c-6c8dce64bbbb
DTSTAMP:20260422T080633Z
DESCRIPTION:Please enjoy a safe and happy holiday with friends and family!
DTSTART;TZID=America/Anchorage:20191128T000000
DTEND;TZID=America/Anchorage:20191128T235900
LOCATION:
SUMMARY:Thanksgiving Day
END:VEVENT
END:VCALENDAR
