BEGIN:VCALENDAR
VERSION:2.0
PRODID:-//www.ketchikanarts.org//NONSGML kigkonsult.se iCalcreator 2.30.10/
 /
CALSCALE:GREGORIAN
METHOD:PUBLISH
UID:6cd92366-756a-4b2d-9cd8-15d7b5005910
X-WR-CALDESC:This meeting is the Rainy Day Quilt guild is a monthly meeting
 . The group meets in the basement room of the church beginning at 6:30pm o
 n the 4th Tuesday of the month.
X-WR-RELCALID:c767bbc035ec540722318f0ccfe2dc5d
X-WR-TIMEZONE:America/Anchorage
BEGIN:VTIMEZONE
TZID:America/Anchorage
BEGIN:STANDARD
TZNAME:AKST
DTSTART:20191103T020000
TZOFFSETFROM:-0800
TZOFFSETTO:-0900
RDATE:20201101T020000
END:STANDARD
BEGIN:DAYLIGHT
TZNAME:AKDT
DTSTART:20190310T020000
TZOFFSETFROM:-0900
TZOFFSETTO:-0800
RDATE:20200308T020000
RDATE:20210314T020000
END:DAYLIGHT
END:VTIMEZONE
BEGIN:VEVENT
UID:863ca8bd-6264-4998-a44c-3beb00ef1d9d
DTSTAMP:20260422T082600Z
DESCRIPTION:This meeting is the Rainy Day Quilt guild is a monthly meeting.
  The group meets in the basement room of the church beginning at 6:30pm on
  the 4th Tuesday of the month.
DTSTART;TZID=America/Anchorage:20191126T183000
DTEND;TZID=America/Anchorage:20191126T200000
LOCATION:Holy Name Catholic Church
SUMMARY:Rainy Day Quilt Guild Monthly Meeting
END:VEVENT
END:VCALENDAR
