BEGIN:VCALENDAR
VERSION:2.0
PRODID:-//www.ketchikanarts.org//NONSGML kigkonsult.se iCalcreator 2.30.10/
 /
CALSCALE:GREGORIAN
METHOD:PUBLISH
UID:e882f010-6232-46ab-9b9c-94418040c3f4
X-WR-CALDESC:Its National Novel Writing Month! Drop-in DANGEROUS writing se
 ssion tonight! Finally finish your novel or at least work on it! \nFree\n
 \n4:00 - 7:00 pm. Ketchikan Public Library.
X-WR-RELCALID:81781baadd3d5acf0664134ddc2b7189
X-WR-TIMEZONE:America/Anchorage
BEGIN:VTIMEZONE
TZID:America/Anchorage
BEGIN:STANDARD
TZNAME:AKST
DTSTART:20191103T020000
TZOFFSETFROM:-0800
TZOFFSETTO:-0900
RDATE:20201101T020000
END:STANDARD
BEGIN:DAYLIGHT
TZNAME:AKDT
DTSTART:20190310T020000
TZOFFSETFROM:-0900
TZOFFSETTO:-0800
RDATE:20200308T020000
RDATE:20210314T020000
END:DAYLIGHT
END:VTIMEZONE
BEGIN:VEVENT
UID:c92ee525-ae9b-4362-8567-f902e4b09f14
DTSTAMP:20260422T082841Z
DESCRIPTION:Its National Novel Writing Month! Drop-in DANGEROUS writing ses
 sion tonight! Finally finish your novel or at least work on it! \nFree\n\n
 4:00 - 7:00 pm. Ketchikan Public Library.
DTSTART;TZID=America/Anchorage:20191123T160000
DTEND;TZID=America/Anchorage:20191123T190000
LOCATION:Ketchikan Public Library
SUMMARY:Night of Writing Dangerously for NaNoWriMo (National Novel Witing M
 onth)
END:VEVENT
END:VCALENDAR
