BEGIN:VCALENDAR
VERSION:2.0
PRODID:-//www.ketchikanarts.org//NONSGML kigkonsult.se iCalcreator 2.30.10/
 /
CALSCALE:GREGORIAN
METHOD:PUBLISH
UID:0da9ef8c-01e7-436d-8f44-8d70b15c38c7
X-WR-CALDESC:Dave Rubin\, guitar\, Hannah Karrick\, violin\, and Chazz Gist
 \, bass\, play every Friday night at the New York Cafe for your listening 
 pleasure.
X-WR-RELCALID:56a580404e2d8ff3284d8d29391dcac9
X-WR-TIMEZONE:America/Anchorage
BEGIN:VTIMEZONE
TZID:America/Anchorage
BEGIN:STANDARD
TZNAME:AKST
DTSTART:20191103T020000
TZOFFSETFROM:-0800
TZOFFSETTO:-0900
RDATE:20201101T020000
END:STANDARD
BEGIN:DAYLIGHT
TZNAME:AKDT
DTSTART:20190310T020000
TZOFFSETFROM:-0900
TZOFFSETTO:-0800
RDATE:20200308T020000
RDATE:20210314T020000
END:DAYLIGHT
END:VTIMEZONE
BEGIN:VEVENT
UID:a372d294-a8c4-4503-b94f-8e05ccfcb2e6
DTSTAMP:20260422T081840Z
DESCRIPTION:Dave Rubin\, guitar\, Hannah Karrick\, violin\, and Chazz Gist\
 , bass\, play every Friday night at the New York Cafe for your listening p
 leasure.
DTSTART;TZID=America/Anchorage:20191122T190000
DTEND;TZID=America/Anchorage:20191122T210000
LOCATION:New York Cafe
SUMMARY:Dave\, Hannah\, and Chazz
END:VEVENT
END:VCALENDAR
