BEGIN:VCALENDAR
VERSION:2.0
PRODID:-//www.ketchikanarts.org//NONSGML kigkonsult.se iCalcreator 2.30.10/
 /
CALSCALE:GREGORIAN
METHOD:PUBLISH
UID:849330be-3053-4040-906d-b4babd4145bb
X-WR-CALDESC:Innovate Grant is now accepting submissions for Fall 2019. Inn
 ovate Grant awards (2) $550.00 grants each quarter\, to one Visual Artist 
 and one Photographer. In addition to receiving a grant award\, winners wil
 l be featured and recognized on our website and join a growing community o
 f vibrant and talented artists. For more information visit https://innovat
 eartistgrants.org\n\nHow to Apply:\nVisual Artists and Photographers 18 ye
 ars and older\, from all around the world\, are eligible to apply. All med
 ia and genres are accepted. All applicants retain the right to the work th
 ey submit. Apply today at https://innovateartistgrants.org\n
X-WR-RELCALID:e0419dce87f854f77bc462536d29f4de
X-WR-TIMEZONE:America/Anchorage
BEGIN:VTIMEZONE
TZID:America/Anchorage
BEGIN:STANDARD
TZNAME:AKST
DTSTART:20191103T020000
TZOFFSETFROM:-0800
TZOFFSETTO:-0900
RDATE:20201101T020000
END:STANDARD
BEGIN:DAYLIGHT
TZNAME:AKDT
DTSTART:20190310T020000
TZOFFSETFROM:-0900
TZOFFSETTO:-0800
RDATE:20200308T020000
RDATE:20210314T020000
END:DAYLIGHT
END:VTIMEZONE
BEGIN:VEVENT
UID:ae7190c3-4750-4873-a1f2-99cb89235aee
DTSTAMP:20260422T080633Z
DESCRIPTION:Innovate Grant is now accepting submissions for Fall 2019. Inno
 vate Grant awards (2) $550.00 grants each quarter\, to one Visual Artist a
 nd one Photographer. In addition to receiving a grant award\, winners will
  be featured and recognized on our website and join a growing community of
  vibrant and talented artists. For more information visit https://innovate
 artistgrants.org\n\nHow to Apply:\nVisual Artists and Photographers 18 yea
 rs and older\, from all around the world\, are eligible to apply. All medi
 a and genres are accepted. All applicants retain the right to the work the
 y submit. Apply today at https://innovateartistgrants.org\n
DTSTART;TZID=America/Anchorage:20191119T170000
DTEND;TZID=America/Anchorage:20191119T180000
LOCATION:Innovate Grants
SUMMARY:Innovative Grants!
END:VEVENT
END:VCALENDAR
