BEGIN:VCALENDAR
VERSION:2.0
PRODID:-//www.ketchikanarts.org//NONSGML kigkonsult.se iCalcreator 2.30.10/
 /
CALSCALE:GREGORIAN
METHOD:PUBLISH
UID:51769d51-3a18-4395-ad2b-de1dd042aebf
X-WR-CALDESC:Ketchikan Community Chorus rehearses on Tuesdays\, beginning S
 eptember 10th. Rehearsals start at 7pm at the Ketchikan Presbyterian Churc
 h.  The Fall performances will be Thursday\, December 5th at 7pm and Sunda
 y\, December 8th at 2pm at the Ketchikan Presbyterian Church.
X-WR-RELCALID:b0ef202e3a2fcdd680ea0f98ee7cf73e
X-WR-TIMEZONE:America/Anchorage
BEGIN:VTIMEZONE
TZID:America/Anchorage
BEGIN:STANDARD
TZNAME:AKST
DTSTART:20191103T020000
TZOFFSETFROM:-0800
TZOFFSETTO:-0900
RDATE:20201101T020000
END:STANDARD
BEGIN:DAYLIGHT
TZNAME:AKDT
DTSTART:20190310T020000
TZOFFSETFROM:-0900
TZOFFSETTO:-0800
RDATE:20200308T020000
RDATE:20210314T020000
END:DAYLIGHT
END:VTIMEZONE
BEGIN:VEVENT
UID:74fdc830-db49-46d6-8423-cf903a9d81a6
DTSTAMP:20260422T082832Z
DESCRIPTION:Ketchikan Community Chorus rehearses on Tuesdays\, beginning Se
 ptember 10th. Rehearsals start at 7pm at the Ketchikan Presbyterian Church
 .  The Fall performances will be Thursday\, December 5th at 7pm and Sunday
 \, December 8th at 2pm at the Ketchikan Presbyterian Church.
DTSTART;TZID=America/Anchorage:20191119T190000
DTEND;TZID=America/Anchorage:20191119T210000
LOCATION:Ketchikan Presbyterian Church
SUMMARY:Ketchikan Community Chorus rehearsal
END:VEVENT
END:VCALENDAR
