BEGIN:VCALENDAR
VERSION:2.0
PRODID:-//www.ketchikanarts.org//NONSGML kigkonsult.se iCalcreator 2.30.10/
 /
CALSCALE:GREGORIAN
METHOD:PUBLISH
UID:2d80c503-1cd3-421e-9e0c-ec2b53942f70
X-WR-CALDESC:For swing 101 and swing 2\n\nDoors open at 6:00 to sign in and
  practice \nSwing 101 6:15 - 6:55\nSwing 2  7:00 - 7:30\n\n
X-WR-RELCALID:d1c88321e420c45cb9c38dd16a20ffd2
X-WR-TIMEZONE:America/Anchorage
BEGIN:VTIMEZONE
TZID:America/Anchorage
BEGIN:STANDARD
TZNAME:AKST
DTSTART:20191103T020000
TZOFFSETFROM:-0800
TZOFFSETTO:-0900
RDATE:20201101T020000
END:STANDARD
BEGIN:DAYLIGHT
TZNAME:AKDT
DTSTART:20190310T020000
TZOFFSETFROM:-0900
TZOFFSETTO:-0800
RDATE:20200308T020000
RDATE:20210314T020000
END:DAYLIGHT
END:VTIMEZONE
BEGIN:VEVENT
UID:237d57b1-ea2b-4504-a768-cc49cdeb6493
DTSTAMP:20260422T080748Z
DESCRIPTION:For swing 101 and swing 2\n\nDoors open at 6:00 to sign in and 
 practice \nSwing 101 6:15 - 6:55\nSwing 2  7:00 - 7:30\n\n
DTSTART;TZID=America/Anchorage:20191118T180000
DTEND;TZID=America/Anchorage:20191118T193000
LOCATION:Main Street Gallery
SUMMARY:BOOMbal Dancehall
END:VEVENT
END:VCALENDAR
