BEGIN:VCALENDAR
VERSION:2.0
PRODID:-//www.ketchikanarts.org//NONSGML kigkonsult.se iCalcreator 2.30.10/
 /
CALSCALE:GREGORIAN
METHOD:PUBLISH
UID:26276449-46d7-4942-8f08-3f97c89de712
X-WR-CALDESC:All are welcome to perform at this open mic! Hosted by Joe Wil
 liams with Tony Johnson. Under 21 must bring parent or legal guardian\n$3 
 at the door
X-WR-RELCALID:53add65dff0ab71b82f11d0c0e5ac5d8
X-WR-TIMEZONE:America/Anchorage
BEGIN:VTIMEZONE
TZID:America/Anchorage
BEGIN:STANDARD
TZNAME:AKST
DTSTART:20191103T020000
TZOFFSETFROM:-0800
TZOFFSETTO:-0900
RDATE:20201101T020000
END:STANDARD
BEGIN:DAYLIGHT
TZNAME:AKDT
DTSTART:20190310T020000
TZOFFSETFROM:-0900
TZOFFSETTO:-0800
RDATE:20200308T020000
RDATE:20210314T020000
END:DAYLIGHT
END:VTIMEZONE
BEGIN:VEVENT
UID:b6ba78f0-7032-48a4-a9fa-a363f89e127b
DTSTAMP:20260422T082316Z
DESCRIPTION:All are welcome to perform at this open mic! Hosted by Joe Will
 iams with Tony Johnson. Under 21 must bring parent or legal guardian\n$3 a
 t the door
DTSTART;TZID=America/Anchorage:20191117T180000
DTEND;TZID=America/Anchorage:20191117T200000
LOCATION:Creek Street Cabaret
SUMMARY:Sunday Open Mic Night with Joe
END:VEVENT
END:VCALENDAR
