BEGIN:VCALENDAR
VERSION:2.0
PRODID:-//www.ketchikanarts.org//NONSGML kigkonsult.se iCalcreator 2.30.10/
 /
CALSCALE:GREGORIAN
METHOD:PUBLISH
UID:0e89b540-de88-4dd2-90ec-2a7c9e879eb1
X-WR-CALDESC:First City Players production of The Secret Garden an enchanti
 ng classic of children's literature is reimagined in a brilliant stage mus
 ical. The Secret Garden is a tale of forgiveness and renewal based on the 
 beloved novel by Frances Hodgson Burnett. The Broadway production won thre
 e Tony Awards.\n\nJoin FCP for the compelling story of 11-year-old Mary Le
 nnox\; orphaned in colonial India\, she returns to Yorkshire to live with 
 her embittered uncle and his invalid son. Among many wonders of the estate
  is a magic garden of haunting melodies and 'Dreamers' -- spirits who guid
 e Mary in a new life.\n\nDirected by Elizabeth Nelson\nChoreography by Cla
 re Bennett\nMusical Direction by Deidra Nuss\n\nDoors open at 7pm\, perfor
 mance begins at 7:30pm\nTickets:\n$26 Adults/$20 Seniors\, Military\, Yout
 h/$70 Family Pack
X-WR-RELCALID:63d62a783bfcae4037270327c25448ec
X-WR-TIMEZONE:America/Anchorage
BEGIN:VTIMEZONE
TZID:America/Anchorage
BEGIN:STANDARD
TZNAME:AKST
DTSTART:20191103T020000
TZOFFSETFROM:-0800
TZOFFSETTO:-0900
RDATE:20201101T020000
END:STANDARD
BEGIN:DAYLIGHT
TZNAME:AKDT
DTSTART:20190310T020000
TZOFFSETFROM:-0900
TZOFFSETTO:-0800
RDATE:20200308T020000
RDATE:20210314T020000
END:DAYLIGHT
END:VTIMEZONE
BEGIN:VEVENT
UID:0b6118b5-89d8-404e-af62-6d9f8685fdf2
DTSTAMP:20260422T081620Z
DESCRIPTION:First City Players production of The Secret Garden an enchantin
 g classic of children's literature is reimagined in a brilliant stage musi
 cal. The Secret Garden is a tale of forgiveness and renewal based on the b
 eloved novel by Frances Hodgson Burnett. The Broadway production won three
  Tony Awards.\n\nJoin FCP for the compelling story of 11-year-old Mary Len
 nox\; orphaned in colonial India\, she returns to Yorkshire to live with h
 er embittered uncle and his invalid son. Among many wonders of the estate 
 is a magic garden of haunting melodies and 'Dreamers' -- spirits who guide
  Mary in a new life.\n\nDirected by Elizabeth Nelson\nChoreography by Clar
 e Bennett\nMusical Direction by Deidra Nuss\n\nDoors open at 7pm\, perform
 ance begins at 7:30pm\nTickets:\n$26 Adults/$20 Seniors\, Military\, Youth
 /$70 Family Pack
DTSTART;TZID=America/Anchorage:20191115T193000
DTEND;TZID=America/Anchorage:20191115T213000
LOCATION:Kayhi Auditorium
SUMMARY:FCP - The Secret Garden
END:VEVENT
END:VCALENDAR
