BEGIN:VCALENDAR
VERSION:2.0
PRODID:-//www.ketchikanarts.org//NONSGML kigkonsult.se iCalcreator 2.30.10/
 /
CALSCALE:GREGORIAN
METHOD:PUBLISH
UID:90dc98f5-aa24-451c-9d0e-ac72199fc013
X-WR-CALDESC:Cousin Curtiss in concert! \n\nJohn Butler meets John Popper m
 eets Keller Williams. Cousin Curtiss combines the picking style\, soul\, a
 nd energy of John Butler\, the incendiary harmonica style of John Popper\,
  and the multi-instrumentalist-live-looping talents of Keller Williams. Co
 usin Curtiss’s life and music has been featured by Business Insider\, MSN\
 , Fox News\, USA Today\, Cosmopolitan Magazine\, and Daily Mail UK.\n\n7:0
 0pm. $15. Tickets at creativehustlercompany.com or at the door. Proceeds g
 o to Rachel Jacobucci's new smile fund!
X-WR-RELCALID:ac31574ac8cf7be554b1139179951557
X-WR-TIMEZONE:America/Anchorage
BEGIN:VTIMEZONE
TZID:America/Anchorage
BEGIN:STANDARD
TZNAME:AKST
DTSTART:20191103T020000
TZOFFSETFROM:-0800
TZOFFSETTO:-0900
RDATE:20201101T020000
END:STANDARD
BEGIN:DAYLIGHT
TZNAME:AKDT
DTSTART:20190310T020000
TZOFFSETFROM:-0900
TZOFFSETTO:-0800
RDATE:20200308T020000
RDATE:20210314T020000
END:DAYLIGHT
END:VTIMEZONE
BEGIN:VEVENT
UID:403469d8-abb1-4587-b4a0-b2e7f413e143
DTSTAMP:20260422T081932Z
DESCRIPTION:Cousin Curtiss in concert! \n\nJohn Butler meets John Popper me
 ets Keller Williams. Cousin Curtiss combines the picking style\, soul\, an
 d energy of John Butler\, the incendiary harmonica style of John Popper\, 
 and the multi-instrumentalist-live-looping talents of Keller Williams. Cou
 sin Curtiss’s life and music has been featured by Business Insider\, MSN\,
  Fox News\, USA Today\, Cosmopolitan Magazine\, and Daily Mail UK.\n\n7:00
 pm. $15. Tickets at creativehustlercompany.com or at the door. Proceeds go
  to Rachel Jacobucci's new smile fund!
DTSTART;TZID=America/Anchorage:20191114T190000
DTEND;TZID=America/Anchorage:20191114T213000
LOCATION:Creek Street Cabaret
SUMMARY:Cousin Curtiss in concert
END:VEVENT
END:VCALENDAR
