BEGIN:VCALENDAR
VERSION:2.0
PRODID:-//www.ketchikanarts.org//NONSGML kigkonsult.se iCalcreator 2.30.10/
 /
CALSCALE:GREGORIAN
METHOD:PUBLISH
UID:6c8291c4-2e5b-41a6-89fc-ee1373527eed
X-WR-CALDESC:Join Dave Rubin\, guitar\, Hannah Karrick\, violin\, and Chazz
  Gist\, bass\, at the Cape Fox Lodge for your listening pleasure.
X-WR-RELCALID:3c1dc5a77abc3e6b8dd4378e7b2c9229
X-WR-TIMEZONE:America/Anchorage
BEGIN:VTIMEZONE
TZID:America/Anchorage
BEGIN:STANDARD
TZNAME:AKST
DTSTART:20191103T020000
TZOFFSETFROM:-0800
TZOFFSETTO:-0900
RDATE:20201101T020000
END:STANDARD
BEGIN:DAYLIGHT
TZNAME:AKDT
DTSTART:20190310T020000
TZOFFSETFROM:-0900
TZOFFSETTO:-0800
RDATE:20200308T020000
RDATE:20210314T020000
END:DAYLIGHT
END:VTIMEZONE
BEGIN:VEVENT
UID:6ca24bb9-c684-42dd-8735-507770532232
DTSTAMP:20260422T081747Z
DESCRIPTION:Join Dave Rubin\, guitar\, Hannah Karrick\, violin\, and Chazz 
 Gist\, bass\, at the Cape Fox Lodge for your listening pleasure.
DTSTART;TZID=America/Anchorage:20191114T170000
DTEND;TZID=America/Anchorage:20191114T203000
LOCATION:Cape Fox Lodge
SUMMARY:Dave\, Hannah\, and Chaz
END:VEVENT
END:VCALENDAR
