BEGIN:VCALENDAR
VERSION:2.0
PRODID:-//www.ketchikanarts.org//NONSGML kigkonsult.se iCalcreator 2.30.10/
 /
CALSCALE:GREGORIAN
METHOD:PUBLISH
UID:8aae9961-9591-41b5-9c7f-87ab38008681
X-WR-CALDESC:Have you been wanting to create a piece for the Wearable Art S
 how\, but you aren't quite certain how to get started? Or maybe you've sta
 rted but have some questions about how it all works....OR maybe you needs 
 some advice about adhesives\, or how to keep your headpiece on your head\,
  or .....\n\nWell\, the Wearable Art Show Q&A is for YOU. Ketchikan expert
  Wearable artists will be available to answer all your questions!!! \n\nTh
 is session is free and open to the public!
X-WR-RELCALID:279c73b15c211374eb599f594944cbf0
X-WR-TIMEZONE:America/Anchorage
BEGIN:VTIMEZONE
TZID:America/Anchorage
BEGIN:STANDARD
TZNAME:AKST
DTSTART:20191103T020000
TZOFFSETFROM:-0800
TZOFFSETTO:-0900
RDATE:20201101T020000
END:STANDARD
BEGIN:DAYLIGHT
TZNAME:AKDT
DTSTART:20190310T020000
TZOFFSETFROM:-0900
TZOFFSETTO:-0800
RDATE:20200308T020000
RDATE:20210314T020000
END:DAYLIGHT
END:VTIMEZONE
BEGIN:VEVENT
UID:9b2ed948-2d33-4c4e-88d7-44cd6b191b71
DTSTAMP:20260422T082547Z
DESCRIPTION:Have you been wanting to create a piece for the Wearable Art Sh
 ow\, but you aren't quite certain how to get started? Or maybe you've star
 ted but have some questions about how it all works....OR maybe you needs s
 ome advice about adhesives\, or how to keep your headpiece on your head\, 
 or .....\n\nWell\, the Wearable Art Show Q&A is for YOU. Ketchikan expert 
 Wearable artists will be available to answer all your questions!!! \n\nThi
 s session is free and open to the public!
DTSTART;TZID=America/Anchorage:20191113T173000
DTEND;TZID=America/Anchorage:20191113T183000
LOCATION:Main Street Gallery
SUMMARY:Wearable Art Show Q&A for new artists
END:VEVENT
END:VCALENDAR
