BEGIN:VCALENDAR
VERSION:2.0
PRODID:-//www.ketchikanarts.org//NONSGML kigkonsult.se iCalcreator 2.30.10/
 /
CALSCALE:GREGORIAN
METHOD:PUBLISH
UID:9a3a05d1-ea62-43af-9794-37bc36244bd4
X-WR-CALDESC:Mon.-Wed. & Fri. 5:30-8:30 PM\, Sat. 9:00 AM-5:00 PM\nRenowned
  Haida weaver Holly Churchill will guide\nbeginning students in learning a
 nd practicing foundational\ncedar bark weaving methods. Students will lear
 n basic\ntwining as well as alternating color design and overlay\ntechniqu
 es as they weave an open-face cedar bark basket.\nThis class counts toward
  a Certificate of Merit in Weaving and\nis a prerequisite for all upper-le
 vel weaving classes.
X-WR-RELCALID:4dde0e28e8cb6b5d0040cf9e14afaf6a
X-WR-TIMEZONE:America/Anchorage
BEGIN:VTIMEZONE
TZID:America/Anchorage
BEGIN:STANDARD
TZNAME:AKST
DTSTART:20191103T020000
TZOFFSETFROM:-0800
TZOFFSETTO:-0900
RDATE:20201101T020000
END:STANDARD
BEGIN:DAYLIGHT
TZNAME:AKDT
DTSTART:20190310T020000
TZOFFSETFROM:-0900
TZOFFSETTO:-0800
RDATE:20200308T020000
RDATE:20210314T020000
END:DAYLIGHT
END:VTIMEZONE
BEGIN:VEVENT
UID:bdfa5bb7-6032-4fac-a7a2-aade606a96d3
DTSTAMP:20260422T083011Z
DESCRIPTION:Mon.-Wed. & Fri. 5:30-8:30 PM\, Sat. 9:00 AM-5:00 PM\nRenowned 
 Haida weaver Holly Churchill will guide\nbeginning students in learning an
 d practicing foundational\ncedar bark weaving methods. Students will learn
  basic\ntwining as well as alternating color design and overlay\ntechnique
 s as they weave an open-face cedar bark basket.\nThis class counts toward 
 a Certificate of Merit in Weaving and\nis a prerequisite for all upper-lev
 el weaving classes.
DTSTART;TZID=America/Anchorage:20191113T173000
DTEND;TZID=America/Anchorage:20191113T203000
LOCATION:Totem Heritage Center
SUMMARY:Introduction to Cedar Bark Weaving with Holly Churchill
END:VEVENT
END:VCALENDAR
